BEGIN:VCALENDAR
VERSION:2.0
PRODID:-//Accrediting Commission for Schools - ECPv6.15.20//NONSGML v1.0//EN
CALSCALE:GREGORIAN
METHOD:PUBLISH
X-WR-CALNAME:Accrediting Commission for Schools
X-ORIGINAL-URL:https://acswasc.org
X-WR-CALDESC:Events for Accrediting Commission for Schools
REFRESH-INTERVAL;VALUE=DURATION:PT1H
X-Robots-Tag:noindex
X-PUBLISHED-TTL:PT1H
BEGIN:VTIMEZONE
TZID:UTC
BEGIN:STANDARD
TZOFFSETFROM:+0000
TZOFFSETTO:+0000
TZNAME:UTC
DTSTART:20230101T000000
END:STANDARD
END:VTIMEZONE
BEGIN:VTIMEZONE
TZID:America/Los_Angeles
BEGIN:DAYLIGHT
TZOFFSETFROM:-0800
TZOFFSETTO:-0700
TZNAME:PDT
DTSTART:20230312T100000
END:DAYLIGHT
BEGIN:STANDARD
TZOFFSETFROM:-0700
TZOFFSETTO:-0800
TZNAME:PST
DTSTART:20231105T090000
END:STANDARD
BEGIN:DAYLIGHT
TZOFFSETFROM:-0800
TZOFFSETTO:-0700
TZNAME:PDT
DTSTART:20240310T100000
END:DAYLIGHT
BEGIN:STANDARD
TZOFFSETFROM:-0700
TZOFFSETTO:-0800
TZNAME:PST
DTSTART:20241103T090000
END:STANDARD
BEGIN:DAYLIGHT
TZOFFSETFROM:-0800
TZOFFSETTO:-0700
TZNAME:PDT
DTSTART:20250309T100000
END:DAYLIGHT
BEGIN:STANDARD
TZOFFSETFROM:-0700
TZOFFSETTO:-0800
TZNAME:PST
DTSTART:20251102T090000
END:STANDARD
END:VTIMEZONE
BEGIN:VEVENT
DTSTART;TZID=UTC:20240702T170000
DTEND;TZID=UTC:20240702T190000
DTSTAMP:20260420T102928
CREATED:20230824T180551Z
LAST-MODIFIED:20231011T163704Z
UID:66835-1719939600-1719946800@acswasc.org
SUMMARY:2023-2024 WASC International Visiting Committee Member Training\, Part 2 of 3
DESCRIPTION:This training is suitable for new visiting committee members preparing for a self-study visit to an international school in the 2023-2024 school year. This is part two of a three-part training series available on the following dates during the 2023-2024 school year: \n\nNovember 7\, 2023: 11:00 AM – 1:00 PM UTC (This training is at capacity and registration has closed; please contact internationaltraining@acswasc.org if you need to attend this training for a visit scheduled in fall or winter of the 2023-2024 school year)\nFebruary 20\, 2024: 11:00 AM – 1:00 PM UTC\nJuly 21\, 2024: 5:00 PM – 7:00 PM UTC\n\nIf you have any questions or need assistance with registration\, please contact our international training team at internationaltraining@acswasc.org.
URL:https://acswasc.org/event/2023-2024-wasc-international-visiting-committee-member-training-part-2-of-3/2024-07-02/
LOCATION:Virtual
CATEGORIES:International Training Calendar
END:VEVENT
BEGIN:VEVENT
DTSTART;TZID=UTC:20240716T170000
DTEND;TZID=UTC:20240716T190000
DTSTAMP:20260420T102928
CREATED:20230824T181045Z
LAST-MODIFIED:20231011T163750Z
UID:66838-1721149200-1721156400@acswasc.org
SUMMARY:2023-2024 WASC International Visiting Committee Member Training\, Part 3 of 3
DESCRIPTION:This training is suitable for new visiting committee members preparing for a self-study visit to an international school in the 2023-2024 school year. This is part three of a three-part training series available on the following dates during the 2023-2024 school year: \n\nNovember 28\, 2023: 11:00 AM – 1:00 PM UTC (This training is at capacity and registration has closed; please contact internationaltraining@acswasc.org if you need to attend this training for a visit scheduled in fall or winter of the 2023-2024 school year)\nMarch 12\, 2024: 11:00 AM – 1:00 PM UTC\nJuly 16\, 2024: 5:00 PM – 7:00 PM UTC\n\nIf you have any questions or need assistance with registration\, please contact our international training team at internationaltraining@acswasc.org.
URL:https://acswasc.org/event/2023-2024-wasc-international-visiting-committee-member-training-part-3-of-3/2024-07-16/
LOCATION:Virtual
CATEGORIES:International Training Calendar
END:VEVENT
BEGIN:VEVENT
DTSTART;TZID=America/Los_Angeles:20240722T090000
DTEND;TZID=America/Los_Angeles:20240722T230000
DTSTAMP:20260420T102928
CREATED:20240702T204542Z
LAST-MODIFIED:20240702T204542Z
UID:67183-1721638800-1721689200@acswasc.org
SUMMARY:CDCR WASC Postsecondary Office Hours
DESCRIPTION:This training is by invitation by CDCR only and will not be located on your portal. This session is for schools to discuss annual processes and action plan updates.
URL:https://acswasc.org/event/cdcr-wasc-postsecondary-office-hours/
LOCATION:Virtual
CATEGORIES:Training Calendar
END:VEVENT
END:VCALENDAR