BEGIN:VCALENDAR
VERSION:2.0
PRODID:-//Accrediting Commission for Schools - ECPv6.15.20//NONSGML v1.0//EN
CALSCALE:GREGORIAN
METHOD:PUBLISH
X-WR-CALNAME:Accrediting Commission for Schools
X-ORIGINAL-URL:https://acswasc.org
X-WR-CALDESC:Events for Accrediting Commission for Schools
REFRESH-INTERVAL;VALUE=DURATION:PT1H
X-Robots-Tag:noindex
X-PUBLISHED-TTL:PT1H
BEGIN:VTIMEZONE
TZID:America/Los_Angeles
BEGIN:DAYLIGHT
TZOFFSETFROM:-0800
TZOFFSETTO:-0700
TZNAME:PDT
DTSTART:20200308T100000
END:DAYLIGHT
BEGIN:STANDARD
TZOFFSETFROM:-0700
TZOFFSETTO:-0800
TZNAME:PST
DTSTART:20201101T090000
END:STANDARD
BEGIN:DAYLIGHT
TZOFFSETFROM:-0800
TZOFFSETTO:-0700
TZNAME:PDT
DTSTART:20210314T100000
END:DAYLIGHT
BEGIN:STANDARD
TZOFFSETFROM:-0700
TZOFFSETTO:-0800
TZNAME:PST
DTSTART:20211107T090000
END:STANDARD
BEGIN:DAYLIGHT
TZOFFSETFROM:-0800
TZOFFSETTO:-0700
TZNAME:PDT
DTSTART:20220313T100000
END:DAYLIGHT
BEGIN:STANDARD
TZOFFSETFROM:-0700
TZOFFSETTO:-0800
TZNAME:PST
DTSTART:20221106T090000
END:STANDARD
END:VTIMEZONE
BEGIN:VEVENT
DTSTART;TZID=America/Los_Angeles:20210902T190000
DTEND;TZID=America/Los_Angeles:20210902T210000
DTSTAMP:20260420T233657
CREATED:20210825T144801Z
LAST-MODIFIED:20220822T132616Z
UID:66084-1630609200-1630616400@acswasc.org
SUMMARY:2022 International Schools\, Additional Office Hours - Virtual
DESCRIPTION:Please contact the ACS WASC office at 1-650-696-1060 or training@acswasc.org \nPlease note\, the time listed is California time.
URL:https://acswasc.org/event/2022-international-schools-additional-office-hours-virtual/
CATEGORIES:International Training Calendar
END:VEVENT
END:VCALENDAR