BEGIN:VCALENDAR
VERSION:2.0
PRODID:-//Accrediting Commission for Schools - ECPv6.15.20//NONSGML v1.0//EN
CALSCALE:GREGORIAN
METHOD:PUBLISH
X-WR-CALNAME:Accrediting Commission for Schools
X-ORIGINAL-URL:https://acswasc.org
X-WR-CALDESC:Events for Accrediting Commission for Schools
REFRESH-INTERVAL;VALUE=DURATION:PT1H
X-Robots-Tag:noindex
X-PUBLISHED-TTL:PT1H
BEGIN:VTIMEZONE
TZID:UTC
BEGIN:STANDARD
TZOFFSETFROM:+0000
TZOFFSETTO:+0000
TZNAME:UTC
DTSTART:20210101T000000
END:STANDARD
END:VTIMEZONE
BEGIN:VTIMEZONE
TZID:America/Los_Angeles
BEGIN:DAYLIGHT
TZOFFSETFROM:-0800
TZOFFSETTO:-0700
TZNAME:PDT
DTSTART:20210314T100000
END:DAYLIGHT
BEGIN:STANDARD
TZOFFSETFROM:-0700
TZOFFSETTO:-0800
TZNAME:PST
DTSTART:20211107T090000
END:STANDARD
BEGIN:DAYLIGHT
TZOFFSETFROM:-0800
TZOFFSETTO:-0700
TZNAME:PDT
DTSTART:20220313T100000
END:DAYLIGHT
BEGIN:STANDARD
TZOFFSETFROM:-0700
TZOFFSETTO:-0800
TZNAME:PST
DTSTART:20221106T090000
END:STANDARD
BEGIN:DAYLIGHT
TZOFFSETFROM:-0800
TZOFFSETTO:-0700
TZNAME:PDT
DTSTART:20230312T100000
END:DAYLIGHT
BEGIN:STANDARD
TZOFFSETFROM:-0700
TZOFFSETTO:-0800
TZNAME:PST
DTSTART:20231105T090000
END:STANDARD
END:VTIMEZONE
BEGIN:VEVENT
DTSTART;TZID=UTC:20220922T110000
DTEND;TZID=UTC:20220922T130000
DTSTAMP:20260420T053343
CREATED:20210825T155222Z
LAST-MODIFIED:20220907T222410Z
UID:66105-1663844400-1663851600@acswasc.org
SUMMARY:2022-2023 WASC International Initial Visit Training (schools\, chairs\, and members) - Virtual (11:00 am - 1:00 pm UTC+0)
DESCRIPTION:Please contact Sylvia Taylor to register and for additional information: staylor@acswasc.org. \nPlease note the date/time of this training is UTC+0.
URL:https://acswasc.org/event/2022-2023-wasc-international-initial-visit-training-schools-chairs-and-members-virtual/
CATEGORIES:International Training Calendar
END:VEVENT
BEGIN:VEVENT
DTSTART;TZID=America/Los_Angeles:20220922T090000
DTEND;TZID=America/Los_Angeles:20220922T120000
DTSTAMP:20260420T053343
CREATED:20220809T195910Z
LAST-MODIFIED:20220920T145937Z
UID:66503-1663837200-1663848000@acswasc.org
SUMMARY:2023-2024 WASC/CDE and WASC FOL Part Three (Office Hours)
DESCRIPTION:
URL:https://acswasc.org/event/2023-2024-wasc-cde-and-wasc-fol-part-one-office-hours/
CATEGORIES:Training Calendar
END:VEVENT
BEGIN:VEVENT
DTSTART;TZID=America/Los_Angeles:20220922T090000
DTEND;TZID=America/Los_Angeles:20220922T120000
DTSTAMP:20260420T053343
CREATED:20220805T183718Z
LAST-MODIFIED:20220829T143611Z
UID:66417-1663837200-1663848000@acswasc.org
SUMMARY:2023-2024 WASC FOL Part One Self-Study Training
DESCRIPTION:FOL (Focus on Learning) \nThis training webinar is for a California private school or WASC affiliated school preparing for a self-study.  This is the first part of a three part training.   \nThe principal\, vice-principal\, and WASC coordinator for the school may register themselves or staff for this training webinar by logging into the ACS WASC School Portal.   \nFor more information or assistance\, please contact the ACS WASC office at 1-650-696-1060 or training@acswasc.org.
URL:https://acswasc.org/event/2023-2024-wasc-fol-part-one-self-study-training/2022-09-22/
CATEGORIES:Training Calendar
END:VEVENT
BEGIN:VEVENT
DTSTART;TZID=America/Los_Angeles:20220922T090000
DTEND;TZID=America/Los_Angeles:20220922T120000
DTSTAMP:20260420T053343
CREATED:20220805T163349Z
LAST-MODIFIED:20220907T203541Z
UID:66586-1663837200-1663848000@acswasc.org
SUMMARY:2022-2023 WASC/CDE Part Three Self-Study School Training
DESCRIPTION:CDE (California Department of Education) \nThis training webinar is for a California public or charter school preparing for a self-study. This is the third part of a three part training. \nThe principal\, vice-principal\, and WASC coordinator for the school may register themselves or staff for this training webinar by logging into the ACS WASC School Portal. Recordings of the Part One and Part Two trainings are available through the ACS WASC Member Portal once the staff member is registered for this training. \nFor more information or assistance\, please contact the ACS WASC office at 1-650-696-1060 or training@acswasc.org.
URL:https://acswasc.org/event/2022-2023-wasc-cde-part-three-self-study-training-office-hours-schools-2022-09-22/2022-09-22/
CATEGORIES:Training Calendar
END:VEVENT
BEGIN:VEVENT
DTSTART;TZID=UTC:20220920T110000
DTEND;TZID=UTC:20220920T140000
DTSTAMP:20260420T053343
CREATED:20210825T154909Z
LAST-MODIFIED:20220907T221641Z
UID:66103-1663671600-1663682400@acswasc.org
SUMMARY:2023-2024 WASC International Part One Self-Study Training - Virtual (11:00 am - 2:00 pm UTC+0)
DESCRIPTION:Please note the date/time listed for this training is UTC+0.\nPlease contact Sylvia Taylor to register or for additional information: staylor@acswasc.org. \n 
URL:https://acswasc.org/event/2023-2024-wasc-international-part-one-training-virtual/
CATEGORIES:International Training Calendar
END:VEVENT
BEGIN:VEVENT
DTSTART;TZID=America/Los_Angeles:20220915T163000
DTEND;TZID=America/Los_Angeles:20220915T193000
DTSTAMP:20260420T053343
CREATED:20220310T174146Z
LAST-MODIFIED:20220825T161016Z
UID:66297-1663259400-1663270200@acswasc.org
SUMMARY:Visiting Committee Training through TCSJ
DESCRIPTION:
URL:https://acswasc.org/event/visiting-committee-training-through-tcsj-4/
END:VEVENT
BEGIN:VEVENT
DTSTART;TZID=UTC:20220913T110000
DTEND;TZID=UTC:20220913T140000
DTSTAMP:20260420T053343
CREATED:20210825T155048Z
LAST-MODIFIED:20220907T215711Z
UID:66104-1663066800-1663077600@acswasc.org
SUMMARY:2022-2023 WASC International Visiting Committee Member Training - Part One - Virtual (11:00 am - 2:00 pm UTC+0)
DESCRIPTION:Please contact Sylvia Taylor to register and for additional information: staylor@acswasc.org. \nThis is the first of a three part training. \nPlease note the date/time posted for this training is UTC+0.
URL:https://acswasc.org/event/2022-2023-wasc-international-visiting-committee-member-training-virtual/
CATEGORIES:International Training Calendar
END:VEVENT
BEGIN:VEVENT
DTSTART;TZID=UTC:20220912T090000
DTEND;TZID=UTC:20220912T120000
DTSTAMP:20260420T053343
CREATED:20220911T210920Z
LAST-MODIFIED:20220911T211213Z
UID:66600-1662973200-1662984000@acswasc.org
SUMMARY:2022-2023 WASC/CDE Part Three Self Study Training
DESCRIPTION:
URL:https://acswasc.org/event/2022-2023-wasc-cde-part-three-self-study-training-2/
CATEGORIES:Training Calendar
END:VEVENT
BEGIN:VEVENT
DTSTART;TZID=America/Los_Angeles:20220909T090000
DTEND;TZID=America/Los_Angeles:20220909T120000
DTSTAMP:20260420T053343
CREATED:20220805T173032Z
LAST-MODIFIED:20220829T140436Z
UID:66404-1662714000-1662724800@acswasc.org
SUMMARY:2022-2023 WASC FOL Self-Study Part Three School Training
DESCRIPTION:FOL (Focus on Learning) \nThis training webinar is for a California private school or WASC affiliated school preparing for a self-study.  \nThe principal\, vice-principal\, and WASC coordinator for the school may register themselves or staff for this training webinar by logging into the ACS WASC School Portal.   Recordings of the Part One and Part Two trainings are available through the ACS WASC Member Portal once the staff member is registered for this training. \nFor more information or assistance\, please contact the ACS WASC office at 1-650-696-1060 or training@acswasc.org.
URL:https://acswasc.org/event/2022-2023-wasc-fol-self-study-part-three/2022-09-09/
CATEGORIES:Training Calendar
END:VEVENT
BEGIN:VEVENT
DTSTART;TZID=America/Los_Angeles:20220907T150000
DTEND;TZID=America/Los_Angeles:20220907T170000
DTSTAMP:20260420T053343
CREATED:20220805T163051Z
LAST-MODIFIED:20220825T160249Z
UID:66400-1662562800-1662570000@acswasc.org
SUMMARY:2022-2023 WASC FOL Visiting Committee Member Training
DESCRIPTION:FOL (Focus on Learning) \nThis training webinar is for team members on a visiting committee for a self-study to a California private school or WASC affiliated visit. It is for people who have been on a visiting committee within the last two years. \nYou may register for this training by logging into the ACS WASC Member Portal. \nFor more information or assistance\, please contact the ACS WASC office at 650 696-1060 or training@acswasc.org.
URL:https://acswasc.org/event/2022-2023-wasc-visiting-committee-member-training/
CATEGORIES:Training Calendar
END:VEVENT
BEGIN:VEVENT
DTSTART;TZID=America/Los_Angeles:20220906T090000
DTEND;TZID=America/Los_Angeles:20220906T120000
DTSTAMP:20260420T053343
CREATED:20220805T162833Z
LAST-MODIFIED:20220830T160117Z
UID:66399-1662454800-1662465600@acswasc.org
SUMMARY:2023-2024 WASC/CDE Part One Self-study School Training
DESCRIPTION:CDE (California Department of Education) \nThis training webinar is for a California public or charter school preparing for a self-study in 2023-2024. This is the first part of a three part training. \nThe principal\, vice-principal\, and WASC coordinator for the school may register themselves or staff for this training webinar by logging into the ACS WASC School Portal. \nFor more information or assistance\, please contact the ACS WASC office at 1-650-696-1060 or training@acswasc.org.
URL:https://acswasc.org/event/2023-2024-wasc-cde-part-one-self-study-training/2022-09-06/
CATEGORIES:Training Calendar
END:VEVENT
BEGIN:VEVENT
DTSTART;TZID=America/Los_Angeles:20220902T090000
DTEND;TZID=America/Los_Angeles:20220902T120000
DTSTAMP:20260420T053343
CREATED:20220805T162715Z
LAST-MODIFIED:20220829T121616Z
UID:66398-1662109200-1662120000@acswasc.org
SUMMARY:2022-2023 WASC Probationary Training - Visiting Committee Chairs and Members
DESCRIPTION:This training is for chairs and members preparing for a probationary visit to a California School. \nYou may register for this training by logging into the ACS WASC Member Portal. \nFor more information or assistance\, please contact the ACS WASC office at 650 696-1060 or training@acswasc.org.
URL:https://acswasc.org/event/2022-2023-wasc-probationary-training-chairs-and-visiting-committee-members/
CATEGORIES:Training Calendar
END:VEVENT
BEGIN:VEVENT
DTSTART;TZID=America/Los_Angeles:20220830T100000
DTEND;TZID=America/Los_Angeles:20220830T120000
DTSTAMP:20260420T053343
CREATED:20220805T161514Z
LAST-MODIFIED:20220829T104031Z
UID:66396-1661853600-1661860800@acswasc.org
SUMMARY:2022-2023 WASC Experienced Visiting Committee Chair Training
DESCRIPTION:This training is for experienced chairs preparing for a self-study visit to a California School (Public\, Private\, Adult\, Affiliated\, etc.). “Experienced” means that the chair has been on a self-study visit in the last two years. \nYou may register for this training by logging into the ACS WASC Member Portal. \nFor more information or assistance\, please contact the ACS WASC office at 650 696-1060 or training@acswasc.org.
URL:https://acswasc.org/event/2022-2023-wasc-experienced-chair-training/2022-08-30/
CATEGORIES:Training Calendar
END:VEVENT
BEGIN:VEVENT
DTSTART;TZID=America/Los_Angeles:20220826T090000
DTEND;TZID=America/Los_Angeles:20220826T120000
DTSTAMP:20260420T053343
CREATED:20220805T161352Z
LAST-MODIFIED:20220825T155654Z
UID:66395-1661504400-1661515200@acswasc.org
SUMMARY:2022-2023 WASC Mid-cycle Training - Schools
DESCRIPTION:
URL:https://acswasc.org/event/2022-2023-wasc-mid-cycle-training-schools/
CATEGORIES:Training Calendar
END:VEVENT
BEGIN:VEVENT
DTSTART;TZID=America/Los_Angeles:20220825T090000
DTEND;TZID=America/Los_Angeles:20220825T120000
DTSTAMP:20260420T053343
CREATED:20220805T160902Z
LAST-MODIFIED:20220829T105800Z
UID:66393-1661418000-1661428800@acswasc.org
SUMMARY:2022-2023 ACS WASC New Visiting Committee Chair Training
DESCRIPTION:This training webinar is for the chair on a visiting committee for a self-study to a California school. It is for people who have NOT chaired a visiting committee within the last two years. \nYou may register for this training webinar by logging into the ACS WASC Member Portal. \nFor more information or assistance\, please contact the ACS WASC office at 650 696-1060 or training@acswasc.org
URL:https://acswasc.org/event/2022-2023-acs-wasc-new-char-training/2022-08-25/
CATEGORIES:Training Calendar
END:VEVENT
BEGIN:VEVENT
DTSTART;TZID=America/Los_Angeles:20220824T090000
DTEND;TZID=America/Los_Angeles:20220824T120000
DTSTAMP:20260420T053343
CREATED:20220805T160741Z
LAST-MODIFIED:20220825T155456Z
UID:66392-1661331600-1661342400@acswasc.org
SUMMARY:2022-2023 ACS WASC FOL New Visiting Committee Member Training
DESCRIPTION:FOL (Focus on Learning) \nThis training is for team members on a visiting committee for a self-study to a California private school or WASC affiliated visit. It is for people who are new members or have NOT been on a visiting committee within the last two years. \nYou may register for this training by logging into the ACS WASC Member Portal. \nFor more information or assistance\, please contact the ACS WASC office at 650 696-1060 or training@acswasc.org.
URL:https://acswasc.org/event/2022-2023-acs-wasc-visiting-committee-member-training/
CATEGORIES:Training Calendar
END:VEVENT
BEGIN:VEVENT
DTSTART;TZID=America/Los_Angeles:20220823T090000
DTEND;TZID=America/Los_Angeles:20220823T120000
DTSTAMP:20260420T053343
CREATED:20220822T135732Z
LAST-MODIFIED:20220823T160815Z
UID:66522-1661245200-1661256000@acswasc.org
SUMMARY:2022-2023 WASC/CDE New Visiting Committee Member Training
DESCRIPTION:This training webinar is for team members on a visiting committee for a self-study to a California public or charter school. It is for people who are new members or have not been on a visiting committee within the last two years. \nYou may register for this training by logging into the ACS WASC Member Portal. \nFor more information or assistance\, please contact the ACS WASC office at 650 696-1060 or training@acswasc.org.
URL:https://acswasc.org/event/2022-2023-wasc-cde-new-visiting-committee-member-training/
LOCATION:Virtual
CATEGORIES:Training Calendar
END:VEVENT
BEGIN:VEVENT
DTSTART;TZID=America/Los_Angeles:20220822T090000
DTEND;TZID=America/Los_Angeles:20220822T120000
DTSTAMP:20260420T053343
CREATED:20220822T134414Z
LAST-MODIFIED:20220829T110859Z
UID:66521-1661158800-1661169600@acswasc.org
SUMMARY:2022-2023 WASC/CDE Visiting Committee Member Training
DESCRIPTION:This training webinar is for team members on a visiting committee for a self-study to a California public or charter school. It is for people who have been on a visiting committee within the last two years. \nYou may register for this training webinar by logging into the ACS WASC Member Portal. \nFor more information or assistance\, please contact the ACS WASC office at 650 696-1060 or via email at training@acswasc.org
URL:https://acswasc.org/event/2022-2023-wasc-cde-visiting-committee-member-training-17/2022-08-22/
LOCATION:Virtual
CATEGORIES:Training Calendar
END:VEVENT
BEGIN:VEVENT
DTSTART;TZID=America/Los_Angeles:20220819T090000
DTEND;TZID=America/Los_Angeles:20220819T120000
DTSTAMP:20260420T053343
CREATED:20220805T155952Z
LAST-MODIFIED:20220825T162612Z
UID:66391-1660899600-1660910400@acswasc.org
SUMMARY:2022-2023 WASC Initial Visit Training - Schools
DESCRIPTION:This training webinar is for a California school preparing for an Initial Visit. \nThe principal\, vice-principal\, and WASC coordinator for the school may register themselves or staff for this training webinar by logging into the ACS WASC School Portal. \nFor more information or assistance\, please contact the ACS WASC office at 650 696-1060 or training@acswasc.org.
URL:https://acswasc.org/event/2022-2023-wasc-initial-visit-training-schools/2022-08-19/
CATEGORIES:Training Calendar
END:VEVENT
BEGIN:VEVENT
DTSTART;TZID=America/Los_Angeles:20220819T090000
DTEND;TZID=America/Los_Angeles:20220819T120000
DTSTAMP:20260420T053343
CREATED:20220805T151349Z
LAST-MODIFIED:20220825T155227Z
UID:66385-1660899600-1660910400@acswasc.org
SUMMARY:2022-2023 WASC Initial Visit Training
DESCRIPTION:
URL:https://acswasc.org/event/2022-2023-wasc-initial-visit-training/
END:VEVENT
BEGIN:VEVENT
DTSTART;TZID=UTC:20220818T110000
DTEND;TZID=UTC:20220818T130000
DTSTAMP:20260420T053343
CREATED:20210825T154802Z
LAST-MODIFIED:20220826T150550Z
UID:66102-1660820400-1660827600@acswasc.org
SUMMARY:2022-2023 WASC International Part Three Training\, Additional Office Hours - Virtual
DESCRIPTION:Please note the date/time of this training is UTC+0.\nPlease contact Sylvia Taylor to register and for additional information: staylor@acswasc.org
URL:https://acswasc.org/event/2022-2023-wasc-international-part-three-training-additional-office-hours-virtual/
CATEGORIES:International Training Calendar
END:VEVENT
BEGIN:VEVENT
DTSTART;TZID=America/Los_Angeles:20220818T090000
DTEND;TZID=America/Los_Angeles:20220818T120000
DTSTAMP:20260420T053343
CREATED:20220805T151237Z
LAST-MODIFIED:20220829T141750Z
UID:66384-1660813200-1660824000@acswasc.org
SUMMARY:2022-2023 WASC Mid-cycle Training - Visiting Committee Chairs and Members
DESCRIPTION:This training webinar is for chairs and members preparing for a mid-cycle visit to a California School (Public\, Private\, Adult\, Affiliated\, etc.).  \nYou may register for this training webinar by logging into the ACS WASC Member Portal. \nFor more information or assistance\, please contact the ACS WASC office at 650 696-1060 or training@acswasc.org.
URL:https://acswasc.org/event/2022-2023-wasc-mid-cycle-training-chairs-and-members-office-hours/2022-08-18/
CATEGORIES:Training Calendar
END:VEVENT
BEGIN:VEVENT
DTSTART;TZID=America/Los_Angeles:20220805T090000
DTEND;TZID=America/Los_Angeles:20220805T120000
DTSTAMP:20260420T053343
CREATED:20220805T185517Z
LAST-MODIFIED:20220825T154954Z
UID:66419-1659690000-1659700800@acswasc.org
SUMMARY:2023-2024 WASC FOL Part One Self Study Training
DESCRIPTION:
URL:https://acswasc.org/event/2023-2024-wasc-fol-part-one-self-study-training-2/
CATEGORIES:Training Calendar
END:VEVENT
BEGIN:VEVENT
DTSTART;TZID=UTC:20220805T080000
DTEND;TZID=UTC:20220805T170000
DTSTAMP:20260420T053343
CREATED:20220805T151723Z
LAST-MODIFIED:20220805T151723Z
UID:66387-1659686400-1659718800@acswasc.org
SUMMARY:2022-2023 WASC/CDE Visiting Committee Member Training
DESCRIPTION:
URL:https://acswasc.org/event/2022-2023-wasc-cde-visiting-committee-member-training-2/
END:VEVENT
BEGIN:VEVENT
DTSTART;TZID=UTC:20220509T163000
DTEND;TZID=UTC:20220509T193000
DTSTAMP:20260420T053343
CREATED:20220310T174114Z
LAST-MODIFIED:20220310T174114Z
UID:66296-1652113800-1652124600@acswasc.org
SUMMARY:Visiting Committee Training through TCSJ
DESCRIPTION:
URL:https://acswasc.org/event/visiting-committee-training-through-tcsj-3/
END:VEVENT
BEGIN:VEVENT
DTSTART;TZID=UTC:20220505T110000
DTEND;TZID=UTC:20220505T130000
DTSTAMP:20260420T053343
CREATED:20220111T130926Z
LAST-MODIFIED:20220307T215050Z
UID:66214-1651748400-1651755600@acswasc.org
SUMMARY:WASC Visiting Committee Member Training - Europe\, Middle East and Africa
DESCRIPTION:
URL:https://acswasc.org/event/wasc-visiting-committee-member-training-europe-middle-east-and-africa-16/
CATEGORIES:International Training Calendar
END:VEVENT
BEGIN:VEVENT
DTSTART;TZID=UTC:20220505T090000
DTEND;TZID=UTC:20220505T120000
DTSTAMP:20260420T053343
CREATED:20210824T181708Z
LAST-MODIFIED:20220302T115307Z
UID:66082-1651741200-1651752000@acswasc.org
SUMMARY:2022-2023 WASC Part Three Training - Virtual
DESCRIPTION:Please contact Sylvia Taylor for additional information: staylor@acswasc.org
URL:https://acswasc.org/event/2022-2023-wasc-part-three-training-virtual/
CATEGORIES:Training Calendar
END:VEVENT
BEGIN:VEVENT
DTSTART;TZID=UTC:20220504T160000
DTEND;TZID=UTC:20220504T180000
DTSTAMP:20260420T053343
CREATED:20220111T130723Z
LAST-MODIFIED:20220307T215139Z
UID:66210-1651680000-1651687200@acswasc.org
SUMMARY:WASC Visiting Committee Member Training - Europe\, Middle East and Africa
DESCRIPTION:
URL:https://acswasc.org/event/wasc-visiting-committee-member-training-europe-middle-east-and-africa-12/
CATEGORIES:International Training Calendar
END:VEVENT
BEGIN:VEVENT
DTSTART;TZID=UTC:20220503T090000
DTEND;TZID=UTC:20220503T120000
DTSTAMP:20260420T053343
CREATED:20210824T181622Z
LAST-MODIFIED:20220302T115301Z
UID:66081-1651568400-1651579200@acswasc.org
SUMMARY:2022-2023 WASC/CDE Part Three Training - Virtual
DESCRIPTION:Please contact Sylvia Taylor for additional information: staylor@acswasc.org
URL:https://acswasc.org/event/2022-2023-wasc-cde-part-three-training-virtual-2/
CATEGORIES:Training Calendar
END:VEVENT
BEGIN:VEVENT
DTSTART;TZID=UTC:20220428T163000
DTEND;TZID=UTC:20220428T193000
DTSTAMP:20260420T053343
CREATED:20220310T174042Z
LAST-MODIFIED:20220310T174042Z
UID:66295-1651163400-1651174200@acswasc.org
SUMMARY:Visiting Committee Training through TCSJ
DESCRIPTION:
URL:https://acswasc.org/event/visiting-committee-training-through-tcsj-2/
END:VEVENT
END:VCALENDAR