BEGIN:VCALENDAR
VERSION:2.0
PRODID:-//Accrediting Commission for Schools - ECPv6.15.20//NONSGML v1.0//EN
CALSCALE:GREGORIAN
METHOD:PUBLISH
X-WR-CALNAME:Accrediting Commission for Schools
X-ORIGINAL-URL:https://acswasc.org
X-WR-CALDESC:Events for Accrediting Commission for Schools
REFRESH-INTERVAL;VALUE=DURATION:PT1H
X-Robots-Tag:noindex
X-PUBLISHED-TTL:PT1H
BEGIN:VTIMEZONE
TZID:America/Los_Angeles
BEGIN:DAYLIGHT
TZOFFSETFROM:-0800
TZOFFSETTO:-0700
TZNAME:PDT
DTSTART:20210314T100000
END:DAYLIGHT
BEGIN:STANDARD
TZOFFSETFROM:-0700
TZOFFSETTO:-0800
TZNAME:PST
DTSTART:20211107T090000
END:STANDARD
BEGIN:DAYLIGHT
TZOFFSETFROM:-0800
TZOFFSETTO:-0700
TZNAME:PDT
DTSTART:20220313T100000
END:DAYLIGHT
BEGIN:STANDARD
TZOFFSETFROM:-0700
TZOFFSETTO:-0800
TZNAME:PST
DTSTART:20221106T090000
END:STANDARD
BEGIN:DAYLIGHT
TZOFFSETFROM:-0800
TZOFFSETTO:-0700
TZNAME:PDT
DTSTART:20230312T100000
END:DAYLIGHT
BEGIN:STANDARD
TZOFFSETFROM:-0700
TZOFFSETTO:-0800
TZNAME:PST
DTSTART:20231105T090000
END:STANDARD
BEGIN:DAYLIGHT
TZOFFSETFROM:-0800
TZOFFSETTO:-0700
TZNAME:PDT
DTSTART:20240310T100000
END:DAYLIGHT
BEGIN:STANDARD
TZOFFSETFROM:-0700
TZOFFSETTO:-0800
TZNAME:PST
DTSTART:20241103T090000
END:STANDARD
END:VTIMEZONE
BEGIN:VTIMEZONE
TZID:UTC
BEGIN:STANDARD
TZOFFSETFROM:+0000
TZOFFSETTO:+0000
TZNAME:UTC
DTSTART:20210101T000000
END:STANDARD
END:VTIMEZONE
BEGIN:VTIMEZONE
TZID:Asia/Bangkok
BEGIN:STANDARD
TZOFFSETFROM:+0700
TZOFFSETTO:+0700
TZNAME:+07
DTSTART:20210101T000000
END:STANDARD
END:VTIMEZONE
BEGIN:VEVENT
DTSTART;TZID=America/Los_Angeles:20230112T090000
DTEND;TZID=America/Los_Angeles:20230112T120000
DTSTAMP:20260420T015524
CREATED:20220805T200928Z
LAST-MODIFIED:20220825T164247Z
UID:66448-1673514000-1673524800@acswasc.org
SUMMARY:2022-2023 WASC Initial Visit Training - Schools
DESCRIPTION:
URL:https://acswasc.org/event/2022-2023-wasc-initial-visit-training-schools-3/
CATEGORIES:Training Calendar
END:VEVENT
BEGIN:VEVENT
DTSTART;TZID=UTC:20230111T110000
DTEND;TZID=UTC:20230111T140000
DTSTAMP:20260420T015524
CREATED:20220826T151322Z
LAST-MODIFIED:20221208T185211Z
UID:66554-1673434800-1673445600@acswasc.org
SUMMARY:2023-2024 WASC International School Self-Study Training\, Part 1 of 2 - Webinar (11:00 am - 2:00 pm UTC+0)
DESCRIPTION:Please note the date/time listed for this training is UTC+0. \nThis is part one of a two-part training. This training is suitable for staff from international schools that will be going through the self-study process in the 2023-2024 school year. \nYour school’s WASC contacts can register school staff for this training via their school portal. If you need additional information or assistance with registration\, please contact our training coordinator at internationaltraining@acswasc.org. \n 
URL:https://acswasc.org/event/2023-2024-wasc-international-part-one-self-study-training-repeat-virtual/
CATEGORIES:International Training Calendar
END:VEVENT
BEGIN:VEVENT
DTSTART;TZID=America/Los_Angeles:20230111T090000
DTEND;TZID=America/Los_Angeles:20230111T120000
DTSTAMP:20260420T015524
CREATED:20220805T200819Z
LAST-MODIFIED:20220825T164222Z
UID:66447-1673427600-1673438400@acswasc.org
SUMMARY:2022-2023 WASC FOL Visiting Committee Member Training
DESCRIPTION:
URL:https://acswasc.org/event/2022-2023-wasc-fol-visiting-committee-member-training/
CATEGORIES:Training Calendar
END:VEVENT
BEGIN:VEVENT
DTSTART;TZID=America/Los_Angeles:20230110T090000
DTEND;TZID=America/Los_Angeles:20230110T120000
DTSTAMP:20260420T015524
CREATED:20220805T200727Z
LAST-MODIFIED:20220825T164158Z
UID:66446-1673341200-1673352000@acswasc.org
SUMMARY:2022-2023 WASC New Visiting Committee Chair Training
DESCRIPTION:
URL:https://acswasc.org/event/2022-2023-wasc-new-chair-training-2/
CATEGORIES:Training Calendar
END:VEVENT
BEGIN:VEVENT
DTSTART;TZID=America/Los_Angeles:20230109T090000
DTEND;TZID=America/Los_Angeles:20230109T120000
DTSTAMP:20260420T015524
CREATED:20220805T200629Z
LAST-MODIFIED:20220825T164130Z
UID:66445-1673254800-1673265600@acswasc.org
SUMMARY:2022-2023 WASC/CDE Visiting Committee Member Training
DESCRIPTION:
URL:https://acswasc.org/event/2022-2023-wasc-cde-visiting-committee-member-training-8/
CATEGORIES:Training Calendar
END:VEVENT
BEGIN:VEVENT
DTSTART;TZID=America/Los_Angeles:20230105T150000
DTEND;TZID=America/Los_Angeles:20230105T170000
DTSTAMP:20260420T015524
CREATED:20220809T214015Z
LAST-MODIFIED:20220920T145636Z
UID:66511-1672930800-1672938000@acswasc.org
SUMMARY:2022 WASC Office Hours - Open Forum to Ask Any Questions Regarding Accreditation
DESCRIPTION:
URL:https://acswasc.org/event/2-22-wasc-office-hours-open-forum-to-ask-any-questions-regarding-accreditation/
CATEGORIES:Training Calendar
END:VEVENT
BEGIN:VEVENT
DTSTART;TZID=UTC:20221214T110000
DTEND;TZID=UTC:20221214T130000
DTSTAMP:20260420T015524
CREATED:20220825T233720Z
LAST-MODIFIED:20221208T193358Z
UID:66550-1671015600-1671022800@acswasc.org
SUMMARY:2022-2023 WASC International Training for Probationary Visits (Schools\, Chairs\, and Members) - Webinar (11:00 am - 1:00 pm UTC+0)
DESCRIPTION:Please note the date/time posted for this training is UTC+0. \nThis training is suitable for international schools as well as visiting committee members and chairs preparing for a probationary visit/review. \n\nSchools: Your school’s WASC contacts can register school staff for this training via their school portal.\nMembers and Chairs: You can register for this training through your member portal under Upcoming Trainings.\n\nIf you need additional information or assistance with registration\, please contact our training coordinator at internationaltraining@acswasc.org. \n 
URL:https://acswasc.org/event/2022-2023-wasc-international-probationary-visit-training-schools-chairs-and-members-virtual-2/2022-12-14/
CATEGORIES:International Training Calendar
END:VEVENT
BEGIN:VEVENT
DTSTART;TZID=UTC:20221209T090000
DTEND;TZID=UTC:20221209T110000
DTSTAMP:20260420T015524
CREATED:20220930T194634Z
LAST-MODIFIED:20220930T194634Z
UID:66605-1670576400-1670583600@acswasc.org
SUMMARY:2023-2024 WASC Postsecondary Part Two Self Study Training
DESCRIPTION:
URL:https://acswasc.org/event/2023-2024-wasc-postsecondary-part-two-self-study-training-2/
CATEGORIES:Training Calendar
END:VEVENT
BEGIN:VEVENT
DTSTART;TZID=America/Los_Angeles:20221208T150000
DTEND;TZID=America/Los_Angeles:20221208T170000
DTSTAMP:20260420T015524
CREATED:20220805T192828Z
LAST-MODIFIED:20220825T164033Z
UID:66443-1670511600-1670518800@acswasc.org
SUMMARY:2022-2023 WASC Probationary Visits (Office Hours)
DESCRIPTION:
URL:https://acswasc.org/event/2022-2023-wasc-probationary-visits-office-hours/
CATEGORIES:Training Calendar
END:VEVENT
BEGIN:VEVENT
DTSTART;TZID=America/Los_Angeles:20221208T100000
DTEND;TZID=America/Los_Angeles:20221208T120000
DTSTAMP:20260420T015524
CREATED:20220805T192954Z
LAST-MODIFIED:20220825T164011Z
UID:66444-1670493600-1670500800@acswasc.org
SUMMARY:2022-2023 WASC Experienced Visiting Committee Chair Training
DESCRIPTION:
URL:https://acswasc.org/event/2022-2023-wasc-experienced-chair-training-2/
CATEGORIES:Training Calendar
END:VEVENT
BEGIN:VEVENT
DTSTART;TZID=America/Los_Angeles:20221206T090000
DTEND;TZID=America/Los_Angeles:20221206T120000
DTSTAMP:20260420T015524
CREATED:20220805T192642Z
LAST-MODIFIED:20220825T163947Z
UID:66442-1670317200-1670328000@acswasc.org
SUMMARY:2022-2023 WASC New Visiting Committee Chair Training
DESCRIPTION:
URL:https://acswasc.org/event/2022-2023-wasc-new-chair-training/
CATEGORIES:Training Calendar
END:VEVENT
BEGIN:VEVENT
DTSTART;TZID=America/Los_Angeles:20221201T090000
DTEND;TZID=America/Los_Angeles:20221201T120000
DTSTAMP:20260420T015524
CREATED:20220805T192543Z
LAST-MODIFIED:20220825T163922Z
UID:66441-1669885200-1669896000@acswasc.org
SUMMARY:2022-2023 WASC Mid-cycle Training - Visiting Committee Chairs and Members
DESCRIPTION:
URL:https://acswasc.org/event/2022-2023-wasc-mid-cycle-training-chairs-and-visiting-committee-members-2/
CATEGORIES:Training Calendar
END:VEVENT
BEGIN:VEVENT
DTSTART;TZID=America/Los_Angeles:20221130T090000
DTEND;TZID=America/Los_Angeles:20221130T120000
DTSTAMP:20260420T015524
CREATED:20220805T192433Z
LAST-MODIFIED:20220825T163856Z
UID:66440-1669798800-1669809600@acswasc.org
SUMMARY:2022-2023 WASC/CDE Visiting Committee Member Training
DESCRIPTION:
URL:https://acswasc.org/event/2022-2023-wasc-cde-visiting-committee-member-training-7/
CATEGORIES:Training Calendar
END:VEVENT
BEGIN:VEVENT
DTSTART;TZID=UTC:20221129T110000
DTEND;TZID=UTC:20221129T130000
DTSTAMP:20260420T015524
CREATED:20220825T231101Z
LAST-MODIFIED:20220907T221905Z
UID:66547-1669719600-1669726800@acswasc.org
SUMMARY:2023-2024 WASC International Part Two Self-Study Training\, Office Hours - Virtual (11:00 am - 1:00 pm UTC+0)
DESCRIPTION:Please contact Sylvia Taylor to register and for additional information: staylor@acswasc.org. \nPlease note the date/time posted for this training is UTC+0.
URL:https://acswasc.org/event/2023-2024-wasc-international-part-two-self-study-training-office-hours-virtual/
CATEGORIES:International Training Calendar
END:VEVENT
BEGIN:VEVENT
DTSTART;TZID=America/Los_Angeles:20221117T150000
DTEND;TZID=America/Los_Angeles:20221117T170000
DTSTAMP:20260420T015524
CREATED:20220809T200247Z
LAST-MODIFIED:20220920T145710Z
UID:66506-1668697200-1668704400@acswasc.org
SUMMARY:2022-2023 WASC/CDE and WASC FOL Part Three Self-Study Training (Office Hours)
DESCRIPTION:
URL:https://acswasc.org/event/2022-2023-wasc-cde-and-wasc-fol-part-three-self-study-training-office-hours/
CATEGORIES:Training Calendar
END:VEVENT
BEGIN:VEVENT
DTSTART;TZID=America/Los_Angeles:20221117T150000
DTEND;TZID=America/Los_Angeles:20221117T170000
DTSTAMP:20260420T015524
CREATED:20220808T020217Z
LAST-MODIFIED:20220920T145722Z
UID:66496-1668697200-1668704400@acswasc.org
SUMMARY:2023-2024 WASC and WASC/CDE Self-Study Part One Training (Office Hours)
DESCRIPTION:
URL:https://acswasc.org/event/2023-2024-wasc-and-wasc-cde-part-one-training-office-hours/
CATEGORIES:Training Calendar
END:VEVENT
BEGIN:VEVENT
DTSTART;TZID=America/Los_Angeles:20221117T090000
DTEND;TZID=America/Los_Angeles:20221117T120000
DTSTAMP:20260420T015524
CREATED:20220805T192303Z
LAST-MODIFIED:20220825T163550Z
UID:66439-1668675600-1668686400@acswasc.org
SUMMARY:2022-2023 WASC/CDE Visiting Committee Member Training
DESCRIPTION:
URL:https://acswasc.org/event/2022-2023-wasc-cde-visiting-committee-training-office-hours/
CATEGORIES:Training Calendar
END:VEVENT
BEGIN:VEVENT
DTSTART;TZID=UTC:20221115T110000
DTEND;TZID=UTC:20221115T140000
DTSTAMP:20260420T015524
CREATED:20220825T232432Z
LAST-MODIFIED:20220907T223754Z
UID:66549-1668510000-1668520800@acswasc.org
SUMMARY:2022-2023 WASC International Chair Training (Mid-cycle & Self-Study Visits) – Part Two – Virtual (11:00 am - 2:00 pm UTC+0)
DESCRIPTION:Please contact Sylvia Taylor to register and for additional information: staylor@acswasc.org. \nPart Two Training \nPlease note the date/time posted for this training is UTC +0.
URL:https://acswasc.org/event/2022-2023-wasc-international-chair-training-mid-cycle-and-self-study-visits-part-two-virtual/
CATEGORIES:International Training Calendar
END:VEVENT
BEGIN:VEVENT
DTSTART;TZID=America/Los_Angeles:20221109T150000
DTEND;TZID=America/Los_Angeles:20221109T170000
DTSTAMP:20260420T015524
CREATED:20220805T192101Z
LAST-MODIFIED:20220825T163523Z
UID:66438-1668006000-1668013200@acswasc.org
SUMMARY:2022-2023 WASC/CDE and WASC FOL Debrief Session
DESCRIPTION:
URL:https://acswasc.org/event/2022-2023-wasc-cde-and-wasc-fol-debrief-session/
CATEGORIES:Training Calendar
END:VEVENT
BEGIN:VEVENT
DTSTART;TZID=UTC:20221108T110000
DTEND;TZID=UTC:20221108T130000
DTSTAMP:20260420T015524
CREATED:20220907T215027Z
LAST-MODIFIED:20220907T221730Z
UID:66597-1667905200-1667912400@acswasc.org
SUMMARY:2022-2023 WASC International Visiting Committee Member Training – Part Three – Virtual (11:00 am - 1:00 pm UTC+0)
DESCRIPTION:Please contact Sylvia Taylor to register and for additional information: staylor@acswasc.org. \nThis is the third of a three part training. \nPlease note the date/time posted for this training is UTC+0.
URL:https://acswasc.org/event/2022-2023-wasc-international-visiting-committee-member-training-part-three-virtual-3/
CATEGORIES:International Training Calendar
END:VEVENT
BEGIN:VEVENT
DTSTART;TZID=UTC:20221108T110000
DTEND;TZID=UTC:20221108T130000
DTSTAMP:20260420T015524
CREATED:20220825T222839Z
LAST-MODIFIED:20220907T224214Z
UID:66546-1667905200-1667912400@acswasc.org
SUMMARY:2022-2023 WASC International Visiting Committee Member Training – Part Three – Virtual (11:00 am - 1:00 pm UTC+0)
DESCRIPTION:Please contact Sylvia Taylor to register and for additional information: staylor@acswasc.org. \nThis is the third of a three part training. \nPlease note the date/time posted for this training is UTC+0.
URL:https://acswasc.org/event/2022-2023-wasc-international-visiting-committee-member-training-part-three-virtual/
END:VEVENT
BEGIN:VEVENT
DTSTART;TZID=UTC:20221107T110000
DTEND;TZID=UTC:20221107T140000
DTSTAMP:20260420T015524
CREATED:20220825T232240Z
LAST-MODIFIED:20220912T173307Z
UID:66548-1667818800-1667829600@acswasc.org
SUMMARY:2022-2023 WASC International Chair Training (Mid-cycle & Self-Study Visits) - Part One - Virtual (11:00 am - 1:00 pm UTC+0)
DESCRIPTION:Please contact Sylvia Taylor to register and for additional information: staylor@acswasc.org. \nPart One Training \nPlease note the date/time posted for this training is UTC +0.
URL:https://acswasc.org/event/2022-2023-wasc-international-chair-training-mid-cycle-and-self-study-visits-part-one-virtual/
CATEGORIES:International Training Calendar
END:VEVENT
BEGIN:VEVENT
DTSTART;TZID=UTC:20221107T110000
DTEND;TZID=UTC:20221107T130000
DTSTAMP:20260420T015524
CREATED:20221014T154751Z
LAST-MODIFIED:20221014T154924Z
UID:66607-1667818800-1667826000@acswasc.org
SUMMARY:2022-2023 WASC International Chair Training (Mid-cycle and Self-Study Visits) – Part One – Virtual
DESCRIPTION:
URL:https://acswasc.org/event/2022-2023-wasc-international-chair-training-mid-cycle-self-study-visits-part-one-virtual/
CATEGORIES:International Training Calendar
END:VEVENT
BEGIN:VEVENT
DTSTART;TZID=America/Los_Angeles:20221103T150000
DTEND;TZID=America/Los_Angeles:20221103T170000
DTSTAMP:20260420T015524
CREATED:20220805T191941Z
LAST-MODIFIED:20220825T163451Z
UID:66437-1667487600-1667494800@acswasc.org
SUMMARY:2022-2023 WASC Mid-cycle Training (Office Hours)
DESCRIPTION:
URL:https://acswasc.org/event/2022-2023-wasc-mid-cycle-training-office-hours/
CATEGORIES:Training Calendar
END:VEVENT
BEGIN:VEVENT
DTSTART;TZID=UTC:20221102T110000
DTEND;TZID=UTC:20221102T140000
DTSTAMP:20260420T015524
CREATED:20210825T155702Z
LAST-MODIFIED:20221006T203611Z
UID:66109-1667386800-1667397600@acswasc.org
SUMMARY:2023-2024 WASC International School Self-Study Part Two Training - Virtual (11:00 am - 2:00 pm UTC+0)
DESCRIPTION:Please contact Sylvia Taylor to register and for additional information: staylor@acswasc.org \nPlease note the date/time posted for this training is UTC+0.
URL:https://acswasc.org/event/2023-2024-wasc-international-part-two-training-virtual/
CATEGORIES:International Training Calendar
END:VEVENT
BEGIN:VEVENT
DTSTART;TZID=America/Los_Angeles:20221101T090000
DTEND;TZID=America/Los_Angeles:20221101T110000
DTSTAMP:20260420T015524
CREATED:20220805T202721Z
LAST-MODIFIED:20220930T194516Z
UID:66459-1667293200-1667300400@acswasc.org
SUMMARY:2023-2024 WASC Postsecondary Part One Self-Study Training
DESCRIPTION:
URL:https://acswasc.org/event/2023-2024-wasc-postsecondary-part-two-self-study-training/
CATEGORIES:Training Calendar
END:VEVENT
BEGIN:VEVENT
DTSTART;TZID=Asia/Bangkok:20221026T083000
DTEND;TZID=Asia/Bangkok:20221026T163000
DTSTAMP:20260420T015524
CREATED:20220826T165548Z
LAST-MODIFIED:20220826T170437Z
UID:66561-1666773000-1666801800@acswasc.org
SUMMARY:WASC International Visiting Committee Chair Training at EARCOS Leadership Conference (ELC) - In Person (By Invitation Only)
DESCRIPTION:This interactive session will prepare EARCOS educators to chair a WASC visiting committee after having served as a visiting committee member. The three roles of the chair will be examined: (1) keeper of the vision of continuous improvement\, (2) coach for the school and visiting committee members\, and (3) organizer for the visit. Through the dialogue and activities\, there will be shared insights and advice from fellow EARCOS educators who have already chaired full\, mid-cycle\, and other special visits\, including synchronized and joint visits. \nPlease contact Sylvia Taylor for additional information: staylor@acswasc.org. \nThe time posted is local time in Bangkok\, Thailand.
URL:https://acswasc.org/event/2023-2024-international-visiting-committee-training-at-earcos-leadership-conference-elc-in-person-by-invitation-only/
CATEGORIES:International Training Calendar
END:VEVENT
BEGIN:VEVENT
DTSTART;TZID=Asia/Bangkok:20221026T083000
DTEND;TZID=Asia/Bangkok:20221026T163000
DTSTAMP:20260420T015524
CREATED:20220826T165415Z
LAST-MODIFIED:20220826T170414Z
UID:66560-1666773000-1666801800@acswasc.org
SUMMARY:WASC International Visiting Committee Member Training at EARCOS Leadership Conference (ELC) - In Person
DESCRIPTION:This interactive session will (1) prepare educators to serve on WASC visiting committees\, emphasizing the roles and responsibilities of a WASC visiting committee member and (2) examine the WASC Guiding Principles and essentials of the Focus on Learning process and it’s adaptability to support continuous improvement and high quality student learning and well-being. \nPlease contact Sylvia Taylor to register and for additional information: staylor@acswasc.org. \nThe time posted is local time in Bangkok\, Thailand.
URL:https://acswasc.org/event/2023-2024-international-visiting-committee-training-at-earcos-leadership-conference-elc-in-person/
CATEGORIES:International Training Calendar
END:VEVENT
BEGIN:VEVENT
DTSTART;TZID=Asia/Bangkok:20221026T083000
DTEND;TZID=Asia/Bangkok:20221026T163000
DTSTAMP:20260420T015524
CREATED:20220826T161843Z
LAST-MODIFIED:20220826T162321Z
UID:66558-1666773000-1666801800@acswasc.org
SUMMARY:2023-2024 International Self-Study Training at EARCOS Leadership Conference (ELC) - In Person
DESCRIPTION:This one day interactive WASC session will examine the WASC Guiding Principles and essentials of the Focus on Learning self-study process and the many ways it can be adapted to a school’s situation to ensure a meaningful self-study process. The session will provide an opportunity for EARCOS educators to learn about strategies inherent in Focus on Learning that support the school’s assessment of student learning in relation to schoolwide learner outcomes and academic standards. During the latter part of the session there will be a panel of EARCOS educators who will share how they adapted the Focus on Learning process for their respective schools\, including integration with strategic planning. \nPlease contact Sylvia Taylor to register and for additional information: staylor@acswasc.org. \nThe time posted is local time in Bangkok\, Thailand.
URL:https://acswasc.org/event/2023-2024-international-self-study-training-at-earcos-leadership-conference-elc-in-person/
CATEGORIES:International Training Calendar
END:VEVENT
BEGIN:VEVENT
DTSTART;TZID=America/Los_Angeles:20221021T090000
DTEND;TZID=America/Los_Angeles:20221021T120000
DTSTAMP:20260420T015524
CREATED:20220805T191832Z
LAST-MODIFIED:20220825T163351Z
UID:66436-1666342800-1666353600@acswasc.org
SUMMARY:2022-2023 WASC Mid-cycle Training - Schools
DESCRIPTION:
URL:https://acswasc.org/event/2022-2023-wasc-mid-cycle-training-schools-2/
CATEGORIES:Training Calendar
END:VEVENT
END:VCALENDAR