BEGIN:VCALENDAR
VERSION:2.0
PRODID:-//Accrediting Commission for Schools - ECPv6.15.20//NONSGML v1.0//EN
CALSCALE:GREGORIAN
METHOD:PUBLISH
X-WR-CALNAME:Accrediting Commission for Schools
X-ORIGINAL-URL:https://acswasc.org
X-WR-CALDESC:Events for Accrediting Commission for Schools
REFRESH-INTERVAL;VALUE=DURATION:PT1H
X-Robots-Tag:noindex
X-PUBLISHED-TTL:PT1H
BEGIN:VTIMEZONE
TZID:UTC
BEGIN:STANDARD
TZOFFSETFROM:+0000
TZOFFSETTO:+0000
TZNAME:UTC
DTSTART:20220101T000000
END:STANDARD
END:VTIMEZONE
BEGIN:VTIMEZONE
TZID:America/Los_Angeles
BEGIN:DAYLIGHT
TZOFFSETFROM:-0800
TZOFFSETTO:-0700
TZNAME:PDT
DTSTART:20220313T100000
END:DAYLIGHT
BEGIN:STANDARD
TZOFFSETFROM:-0700
TZOFFSETTO:-0800
TZNAME:PST
DTSTART:20221106T090000
END:STANDARD
BEGIN:DAYLIGHT
TZOFFSETFROM:-0800
TZOFFSETTO:-0700
TZNAME:PDT
DTSTART:20230312T100000
END:DAYLIGHT
BEGIN:STANDARD
TZOFFSETFROM:-0700
TZOFFSETTO:-0800
TZNAME:PST
DTSTART:20231105T090000
END:STANDARD
BEGIN:DAYLIGHT
TZOFFSETFROM:-0800
TZOFFSETTO:-0700
TZNAME:PDT
DTSTART:20240310T100000
END:DAYLIGHT
BEGIN:STANDARD
TZOFFSETFROM:-0700
TZOFFSETTO:-0800
TZNAME:PST
DTSTART:20241103T090000
END:STANDARD
END:VTIMEZONE
BEGIN:VEVENT
DTSTART;TZID=UTC:20230921T090000
DTEND;TZID=UTC:20230921T120000
DTSTAMP:20260420T002508
CREATED:20230807T204856Z
LAST-MODIFIED:20230807T204856Z
UID:66732-1695286800-1695297600@acswasc.org
SUMMARY:2024-2025 WASC/CDE Day One Training
DESCRIPTION:
URL:https://acswasc.org/event/2024-2025-wasc-cde-day-one-training/
CATEGORIES:Training Calendar
END:VEVENT
BEGIN:VEVENT
DTSTART;TZID=UTC:20230919T090000
DTEND;TZID=UTC:20230919T120000
DTSTAMP:20260420T002508
CREATED:20230807T204745Z
LAST-MODIFIED:20230807T204745Z
UID:66731-1695114000-1695124800@acswasc.org
SUMMARY:2023-2024 Probationary Visits (Schools\, Chairs & Members)
DESCRIPTION:
URL:https://acswasc.org/event/2023-2024-probationary-visits-schools-chairs-members/
CATEGORIES:Training Calendar
END:VEVENT
BEGIN:VEVENT
DTSTART;TZID=UTC:20230918T090000
DTEND;TZID=UTC:20230918T120000
DTSTAMP:20260420T002508
CREATED:20230807T204627Z
LAST-MODIFIED:20230807T204627Z
UID:66730-1695027600-1695038400@acswasc.org
SUMMARY:2023-2024 WASC/CDE Visiting Committee Member Training
DESCRIPTION:
URL:https://acswasc.org/event/2023-2024-wasc-cde-visiting-committee-member-training-5/
CATEGORIES:Training Calendar
END:VEVENT
BEGIN:VEVENT
DTSTART;TZID=UTC:20230914T090000
DTEND;TZID=UTC:20230914T120000
DTSTAMP:20260420T002508
CREATED:20230807T204352Z
LAST-MODIFIED:20230807T204352Z
UID:66729-1694682000-1694692800@acswasc.org
SUMMARY:2024-2025 WASC FOL Day One Training
DESCRIPTION:
URL:https://acswasc.org/event/2024-2025-wasc-fol-day-one-training/
CATEGORIES:Training Calendar
END:VEVENT
BEGIN:VEVENT
DTSTART;TZID=UTC:20230913T130000
DTEND;TZID=UTC:20230913T150000
DTSTAMP:20260420T002508
CREATED:20230905T210431Z
LAST-MODIFIED:20240108T181712Z
UID:66849-1694610000-1694617200@acswasc.org
SUMMARY:2023-2024 WASC International Visiting Committee Member Refresher Training
DESCRIPTION:This training is intended to update experienced members who will be completing a mid-cycle or self-study visit to an international school during the 2023-2024 school year. Additional training dates will be added throughout the 2023-2024 school year as needed. \nIf you have any questions or need assistance with registration\, please contact our international training team at internationaltraining@acswasc.org.
URL:https://acswasc.org/event/2023-2024-wasc-international-visiting-committee-member-refresher-training/2023-09-13/
LOCATION:Virtual
CATEGORIES:International Training Calendar
END:VEVENT
BEGIN:VEVENT
DTSTART;TZID=UTC:20230912T090000
DTEND;TZID=UTC:20230912T120000
DTSTAMP:20260420T002508
CREATED:20230807T204226Z
LAST-MODIFIED:20230807T204226Z
UID:66728-1694509200-1694520000@acswasc.org
SUMMARY:2023-2024 WASC/CDE Visiting Committee Member Training
DESCRIPTION:
URL:https://acswasc.org/event/2023-2024-wasc-cde-visiting-committee-member-training-4/
CATEGORIES:Training Calendar
END:VEVENT
BEGIN:VEVENT
DTSTART;TZID=UTC:20230912T050000
DTEND;TZID=UTC:20230912T070000
DTSTAMP:20260420T002508
CREATED:20230905T203637Z
LAST-MODIFIED:20240108T180952Z
UID:66848-1694494800-1694502000@acswasc.org
SUMMARY:2023-2024 WASC International Mid-Cycle Training for Schools\, Chairs\, and Members
DESCRIPTION:This training is suitable for international schools\, and visiting committee chairs and members preparing for a mid-cycle review/visit in the 2023-2024 school year. Additional Training dates will be added throughout the 2023-2024 school year as needed. \nIf you have any questions or need assistance with registration\, please contact our international training team at internationaltraining@acswasc.org.
URL:https://acswasc.org/event/2023-2024-wasc-international-mid-cycle-training-for-schools-chairs-and-members/2023-09-12/
CATEGORIES:International Training Calendar
END:VEVENT
BEGIN:VEVENT
DTSTART;TZID=America/Los_Angeles:20230907T150000
DTEND;TZID=America/Los_Angeles:20230907T170000
DTSTAMP:20260420T002508
CREATED:20230824T203942Z
LAST-MODIFIED:20240108T185235Z
UID:66840-1694098800-1694106000@acswasc.org
SUMMARY:2023-2024 WASC Continuation School Office Hours
DESCRIPTION:
URL:https://acswasc.org/event/2023-2024-wasc-continuation-school-office-hours-2/
LOCATION:Virtual
CATEGORIES:Training Calendar
END:VEVENT
BEGIN:VEVENT
DTSTART;TZID=UTC:20230829T090000
DTEND;TZID=UTC:20230829T120000
DTSTAMP:20260420T002508
CREATED:20230801T193100Z
LAST-MODIFIED:20230801T193100Z
UID:66715-1693299600-1693310400@acswasc.org
SUMMARY:2023-2024 WASC FOL Visiting Committee Member Training
DESCRIPTION:
URL:https://acswasc.org/event/2023-2024-wasc-fol-visiting-committee-member-training/
CATEGORIES:Training Calendar
END:VEVENT
BEGIN:VEVENT
DTSTART;TZID=UTC:20230825T090000
DTEND;TZID=UTC:20230825T120000
DTSTAMP:20260420T002508
CREATED:20230801T192944Z
LAST-MODIFIED:20230801T192944Z
UID:66714-1692954000-1692964800@acswasc.org
SUMMARY:2023-2024 Mid-cycle Training for Schools
DESCRIPTION:
URL:https://acswasc.org/event/2023-2024-mid-cycle-training-for-schools/
CATEGORIES:Training Calendar
END:VEVENT
BEGIN:VEVENT
DTSTART;TZID=UTC:20230824T090000
DTEND;TZID=UTC:20230824T120000
DTSTAMP:20260420T002508
CREATED:20230801T192840Z
LAST-MODIFIED:20230801T192840Z
UID:66713-1692867600-1692878400@acswasc.org
SUMMARY:2023-2024 WASC/CDE Visiting Committee Member Training
DESCRIPTION:
URL:https://acswasc.org/event/2023-2024-wasc-cde-visiting-committee-member-training-3/
CATEGORIES:Training Calendar
END:VEVENT
BEGIN:VEVENT
DTSTART;TZID=UTC:20230822T090000
DTEND;TZID=UTC:20230822T120000
DTSTAMP:20260420T002508
CREATED:20230801T192731Z
LAST-MODIFIED:20230801T192731Z
UID:66712-1692694800-1692705600@acswasc.org
SUMMARY:2023-2024 WASC/CDE Visiting Committee Member Training
DESCRIPTION:
URL:https://acswasc.org/event/2023-2024-wasc-cde-visiting-committee-member-training-2/
CATEGORIES:Training Calendar
END:VEVENT
BEGIN:VEVENT
DTSTART;TZID=UTC:20230818T090000
DTEND;TZID=UTC:20230818T120000
DTSTAMP:20260420T002508
CREATED:20230801T192619Z
LAST-MODIFIED:20230801T192619Z
UID:66711-1692349200-1692360000@acswasc.org
SUMMARY:2023-2024 Initial Visit Training for Schools
DESCRIPTION:
URL:https://acswasc.org/event/2023-2024-initial-visit-training-for-schools/
CATEGORIES:Training Calendar
END:VEVENT
BEGIN:VEVENT
DTSTART;TZID=UTC:20230817T090000
DTEND;TZID=UTC:20230817T120000
DTSTAMP:20260420T002508
CREATED:20230801T192418Z
LAST-MODIFIED:20230801T192418Z
UID:66710-1692262800-1692273600@acswasc.org
SUMMARY:2023-2024 Mid-cycle Training for Chairs and Members
DESCRIPTION:
URL:https://acswasc.org/event/2023-2024-mid-cycle-training-for-chairs-and-members/
CATEGORIES:Training Calendar
END:VEVENT
BEGIN:VEVENT
DTSTART;TZID=UTC:20230810T130000
DTEND;TZID=UTC:20230810T150000
DTSTAMP:20260420T002508
CREATED:20230801T192028Z
LAST-MODIFIED:20230801T192304Z
UID:66708-1691672400-1691679600@acswasc.org
SUMMARY:WASC Chair Training
DESCRIPTION:
URL:https://acswasc.org/event/wasc-chair-training/
CATEGORIES:Training Calendar
END:VEVENT
BEGIN:VEVENT
DTSTART;TZID=UTC:20230810T090000
DTEND;TZID=UTC:20230810T120000
DTSTAMP:20260420T002508
CREATED:20230801T192238Z
LAST-MODIFIED:20230801T192238Z
UID:66709-1691658000-1691668800@acswasc.org
SUMMARY:2023-2024 WASC/CDE Visiting Committee Member Training
DESCRIPTION:
URL:https://acswasc.org/event/2023-2024-wasc-cde-visiting-committee-member-training/
CATEGORIES:Training Calendar
END:VEVENT
BEGIN:VEVENT
DTSTART;TZID=UTC:20230807T080000
DTEND;TZID=UTC:20230807T170000
DTSTAMP:20260420T002508
CREATED:20230807T204102Z
LAST-MODIFIED:20230807T204102Z
UID:66727-1691395200-1691427600@acswasc.org
SUMMARY:2023-2024 WASC/CDE Continuation Schools Office Hours (Day Three Follow-up)
DESCRIPTION:
URL:https://acswasc.org/event/2023-2024-wasc-cde-continuation-schools-office-hours-day-three-follow-up/
CATEGORIES:Training Calendar
END:VEVENT
BEGIN:VEVENT
DTSTART;TZID=UTC:20230805T090000
DTEND;TZID=UTC:20230805T110000
DTSTAMP:20260420T002508
CREATED:20230801T193212Z
LAST-MODIFIED:20230801T193212Z
UID:66716-1691226000-1691233200@acswasc.org
SUMMARY:2024-2025 WASC Postsecondary Part One Training
DESCRIPTION:
URL:https://acswasc.org/event/2024-2025-wasc-postsecondary-part-one-training/
CATEGORIES:Training Calendar
END:VEVENT
BEGIN:VEVENT
DTSTART;TZID=UTC:20230622T090000
DTEND;TZID=UTC:20230622T120000
DTSTAMP:20260420T002508
CREATED:20230512T190957Z
LAST-MODIFIED:20230512T190957Z
UID:66675-1687424400-1687435200@acswasc.org
SUMMARY:2023-2024 WASC FOL Fall Visiting Committee Member Training
DESCRIPTION:
URL:https://acswasc.org/event/2023-2024-wasc-fol-fall-visiting-committee-member-training/
END:VEVENT
BEGIN:VEVENT
DTSTART;TZID=UTC:20230615T090000
DTEND;TZID=UTC:20230615T120000
DTSTAMP:20260420T002508
CREATED:20230512T190822Z
LAST-MODIFIED:20230512T190822Z
UID:66674-1686819600-1686830400@acswasc.org
SUMMARY:2023-2024 Fall WASC/CDE Visiting Committee Member Training
DESCRIPTION:
URL:https://acswasc.org/event/2023-2024-fall-wasc-cde-visiting-committee-member-training/
END:VEVENT
BEGIN:VEVENT
DTSTART;TZID=America/Los_Angeles:20230511T090000
DTEND;TZID=America/Los_Angeles:20230511T120000
DTSTAMP:20260420T002508
CREATED:20220808T014922Z
LAST-MODIFIED:20220902T182124Z
UID:66495-1683795600-1683806400@acswasc.org
SUMMARY:2023-2024 WASC FOL Part Three Self-Study Training
DESCRIPTION:
URL:https://acswasc.org/event/2023-2024-wasc-fol-part-three-self-study-training/
CATEGORIES:Training Calendar
END:VEVENT
BEGIN:VEVENT
DTSTART;TZID=America/Los_Angeles:20230510T150000
DTEND;TZID=America/Los_Angeles:20230510T170000
DTSTAMP:20260420T002508
CREATED:20220808T014814Z
LAST-MODIFIED:20220902T182149Z
UID:66494-1683730800-1683738000@acswasc.org
SUMMARY:2022-2023 WASC and WASC/CDE Visiting Committee Member Debrief
DESCRIPTION:
URL:https://acswasc.org/event/2022-2023-wasc-and-wasc-cde-visiting-committee-member-debrief/
CATEGORIES:Training Calendar
END:VEVENT
BEGIN:VEVENT
DTSTART;TZID=America/Los_Angeles:20230509T090000
DTEND;TZID=America/Los_Angeles:20230509T120000
DTSTAMP:20260420T002508
CREATED:20220808T014656Z
LAST-MODIFIED:20220902T182204Z
UID:66493-1683622800-1683633600@acswasc.org
SUMMARY:2023-2024 WASC Part Three Self-Study Training
DESCRIPTION:
URL:https://acswasc.org/event/2023-2024-wasc-part-three-self-study-training/
CATEGORIES:Training Calendar
END:VEVENT
BEGIN:VEVENT
DTSTART;TZID=America/Los_Angeles:20230509T090000
DTEND;TZID=America/Los_Angeles:20230509T110000
DTSTAMP:20260420T002508
CREATED:20220805T203108Z
LAST-MODIFIED:20230508T202855Z
UID:66462-1683622800-1683630000@acswasc.org
SUMMARY:2022-2023 WASC Postsecondary Visiting Committee Member Training (Office Hours) - CANCELLED
DESCRIPTION:
URL:https://acswasc.org/event/2022-2023-wasc-postsecondary-visiting-committee-member-training-office-hours-cancelled/
CATEGORIES:Training Calendar
END:VEVENT
BEGIN:VEVENT
DTSTART;TZID=America/Los_Angeles:20230504T090000
DTEND;TZID=America/Los_Angeles:20230504T120000
DTSTAMP:20260420T002508
CREATED:20220808T014622Z
LAST-MODIFIED:20220902T182224Z
UID:66492-1683190800-1683201600@acswasc.org
SUMMARY:2023-2024 WASC/CDE Part Three Self-Study Training
DESCRIPTION:
URL:https://acswasc.org/event/2023-2024-wasc-cde-part-three-self-study-training/
CATEGORIES:Training Calendar
END:VEVENT
BEGIN:VEVENT
DTSTART;TZID=America/Los_Angeles:20230502T090000
DTEND;TZID=America/Los_Angeles:20230502T120000
DTSTAMP:20260420T002508
CREATED:20220808T014443Z
LAST-MODIFIED:20220902T182239Z
UID:66491-1683018000-1683028800@acswasc.org
SUMMARY:2023-2024 WASC/CDE Part Three Self-Study Training
DESCRIPTION:
URL:https://acswasc.org/event/2023-2024-wasc-cde-part-two-self-study-training-15/
CATEGORIES:Training Calendar
END:VEVENT
BEGIN:VEVENT
DTSTART;TZID=UTC:20230412T110000
DTEND;TZID=UTC:20230412T140000
DTSTAMP:20260420T002508
CREATED:20230322T181812Z
LAST-MODIFIED:20230322T182303Z
UID:66657-1681297200-1681308000@acswasc.org
SUMMARY:2023-2024 WASC International Schools Self-Study Office Hours - Webinar (11:00 am UTC+0)
DESCRIPTION:Please note the date/time posted for this training is UTC+0 \nOffice hours are an optional opportunity for international school staff to ask questions and get assistance from WASC advisors regarding their recent training or upcoming review/visit. \nIf you need additional information or assistance with registration\, please contact our training coordinator at internationaltraining@acswasc.org.
URL:https://acswasc.org/event/2023-2024-wasc-international-schools-self-study-office-hours-webinar-1100-am-utc0/
CATEGORIES:International Training Calendar
END:VEVENT
BEGIN:VEVENT
DTSTART;TZID=America/Los_Angeles:20230406T150000
DTEND;TZID=America/Los_Angeles:20230406T170000
DTSTAMP:20260420T002508
CREATED:20220808T014341Z
LAST-MODIFIED:20220902T182253Z
UID:66490-1680793200-1680800400@acswasc.org
SUMMARY:2023-2024 WASC/CDE and WASC Part Two Self-Study Training (Office Hours)
DESCRIPTION:
URL:https://acswasc.org/event/2023-2024-wasc-cde-and-wasc-part-two-training-office-hours/
CATEGORIES:Training Calendar
END:VEVENT
BEGIN:VEVENT
DTSTART;TZID=America/Los_Angeles:20230323T150000
DTEND;TZID=America/Los_Angeles:20230323T170000
DTSTAMP:20260420T002508
CREATED:20220808T013723Z
LAST-MODIFIED:20230302T193226Z
UID:66486-1679583600-1679590800@acswasc.org
SUMMARY:2022-2023 WASC/CDE Continuation Schools (Office Hours)
DESCRIPTION:
URL:https://acswasc.org/event/2022-2023-wasc-cde-continuation-schools-office-hours/
CATEGORIES:Training Calendar
END:VEVENT
BEGIN:VEVENT
DTSTART;TZID=America/Los_Angeles:20230322T150000
DTEND;TZID=America/Los_Angeles:20230322T170000
DTSTAMP:20260420T002508
CREATED:20220314T085311Z
LAST-MODIFIED:20230314T155339Z
UID:66488-1679497200-1679504400@acswasc.org
SUMMARY:2022-2023 WASC/CDE and WASC Visiting Committee Member Debrief
DESCRIPTION:
URL:https://acswasc.org/event/2022-2023-wasc-cde-and-wasc-visiting-committee-member-debrief/
CATEGORIES:Training Calendar
END:VEVENT
END:VCALENDAR