BEGIN:VCALENDAR
VERSION:2.0
PRODID:-//Accrediting Commission for Schools - ECPv6.15.20//NONSGML v1.0//EN
CALSCALE:GREGORIAN
METHOD:PUBLISH
X-WR-CALNAME:Accrediting Commission for Schools
X-ORIGINAL-URL:https://acswasc.org
X-WR-CALDESC:Events for Accrediting Commission for Schools
REFRESH-INTERVAL;VALUE=DURATION:PT1H
X-Robots-Tag:noindex
X-PUBLISHED-TTL:PT1H
BEGIN:VTIMEZONE
TZID:America/Los_Angeles
BEGIN:DAYLIGHT
TZOFFSETFROM:-0800
TZOFFSETTO:-0700
TZNAME:PDT
DTSTART:20210314T100000
END:DAYLIGHT
BEGIN:STANDARD
TZOFFSETFROM:-0700
TZOFFSETTO:-0800
TZNAME:PST
DTSTART:20211107T090000
END:STANDARD
BEGIN:DAYLIGHT
TZOFFSETFROM:-0800
TZOFFSETTO:-0700
TZNAME:PDT
DTSTART:20220313T100000
END:DAYLIGHT
BEGIN:STANDARD
TZOFFSETFROM:-0700
TZOFFSETTO:-0800
TZNAME:PST
DTSTART:20221106T090000
END:STANDARD
BEGIN:DAYLIGHT
TZOFFSETFROM:-0800
TZOFFSETTO:-0700
TZNAME:PDT
DTSTART:20230312T100000
END:DAYLIGHT
BEGIN:STANDARD
TZOFFSETFROM:-0700
TZOFFSETTO:-0800
TZNAME:PST
DTSTART:20231105T090000
END:STANDARD
END:VTIMEZONE
BEGIN:VTIMEZONE
TZID:UTC
BEGIN:STANDARD
TZOFFSETFROM:+0000
TZOFFSETTO:+0000
TZNAME:UTC
DTSTART:20210101T000000
END:STANDARD
END:VTIMEZONE
BEGIN:VEVENT
DTSTART;TZID=America/Los_Angeles:20220906T090000
DTEND;TZID=America/Los_Angeles:20220906T120000
DTSTAMP:20260421T080105
CREATED:20220805T162833Z
LAST-MODIFIED:20220830T160117Z
UID:66399-1662454800-1662465600@acswasc.org
SUMMARY:2023-2024 WASC/CDE Part One Self-study School Training
DESCRIPTION:CDE (California Department of Education) \nThis training webinar is for a California public or charter school preparing for a self-study in 2023-2024. This is the first part of a three part training. \nThe principal\, vice-principal\, and WASC coordinator for the school may register themselves or staff for this training webinar by logging into the ACS WASC School Portal. \nFor more information or assistance\, please contact the ACS WASC office at 1-650-696-1060 or training@acswasc.org.
URL:https://acswasc.org/event/2023-2024-wasc-cde-part-one-self-study-training/2022-09-06/
CATEGORIES:Training Calendar
END:VEVENT
BEGIN:VEVENT
DTSTART;TZID=America/Los_Angeles:20220902T090000
DTEND;TZID=America/Los_Angeles:20220902T120000
DTSTAMP:20260421T080105
CREATED:20220805T162715Z
LAST-MODIFIED:20220829T121616Z
UID:66398-1662109200-1662120000@acswasc.org
SUMMARY:2022-2023 WASC Probationary Training - Visiting Committee Chairs and Members
DESCRIPTION:This training is for chairs and members preparing for a probationary visit to a California School. \nYou may register for this training by logging into the ACS WASC Member Portal. \nFor more information or assistance\, please contact the ACS WASC office at 650 696-1060 or training@acswasc.org.
URL:https://acswasc.org/event/2022-2023-wasc-probationary-training-chairs-and-visiting-committee-members/
CATEGORIES:Training Calendar
END:VEVENT
BEGIN:VEVENT
DTSTART;TZID=America/Los_Angeles:20220830T100000
DTEND;TZID=America/Los_Angeles:20220830T120000
DTSTAMP:20260421T080105
CREATED:20220805T161514Z
LAST-MODIFIED:20220829T104031Z
UID:66396-1661853600-1661860800@acswasc.org
SUMMARY:2022-2023 WASC Experienced Visiting Committee Chair Training
DESCRIPTION:This training is for experienced chairs preparing for a self-study visit to a California School (Public\, Private\, Adult\, Affiliated\, etc.). “Experienced” means that the chair has been on a self-study visit in the last two years. \nYou may register for this training by logging into the ACS WASC Member Portal. \nFor more information or assistance\, please contact the ACS WASC office at 650 696-1060 or training@acswasc.org.
URL:https://acswasc.org/event/2022-2023-wasc-experienced-chair-training/2022-08-30/
CATEGORIES:Training Calendar
END:VEVENT
BEGIN:VEVENT
DTSTART;TZID=America/Los_Angeles:20220826T090000
DTEND;TZID=America/Los_Angeles:20220826T120000
DTSTAMP:20260421T080105
CREATED:20220805T161352Z
LAST-MODIFIED:20220825T155654Z
UID:66395-1661504400-1661515200@acswasc.org
SUMMARY:2022-2023 WASC Mid-cycle Training - Schools
DESCRIPTION:
URL:https://acswasc.org/event/2022-2023-wasc-mid-cycle-training-schools/
CATEGORIES:Training Calendar
END:VEVENT
BEGIN:VEVENT
DTSTART;TZID=America/Los_Angeles:20220825T090000
DTEND;TZID=America/Los_Angeles:20220825T120000
DTSTAMP:20260421T080105
CREATED:20220805T160902Z
LAST-MODIFIED:20220829T105800Z
UID:66393-1661418000-1661428800@acswasc.org
SUMMARY:2022-2023 ACS WASC New Visiting Committee Chair Training
DESCRIPTION:This training webinar is for the chair on a visiting committee for a self-study to a California school. It is for people who have NOT chaired a visiting committee within the last two years. \nYou may register for this training webinar by logging into the ACS WASC Member Portal. \nFor more information or assistance\, please contact the ACS WASC office at 650 696-1060 or training@acswasc.org
URL:https://acswasc.org/event/2022-2023-acs-wasc-new-char-training/2022-08-25/
CATEGORIES:Training Calendar
END:VEVENT
BEGIN:VEVENT
DTSTART;TZID=America/Los_Angeles:20220824T090000
DTEND;TZID=America/Los_Angeles:20220824T120000
DTSTAMP:20260421T080105
CREATED:20220805T160741Z
LAST-MODIFIED:20220825T155456Z
UID:66392-1661331600-1661342400@acswasc.org
SUMMARY:2022-2023 ACS WASC FOL New Visiting Committee Member Training
DESCRIPTION:FOL (Focus on Learning) \nThis training is for team members on a visiting committee for a self-study to a California private school or WASC affiliated visit. It is for people who are new members or have NOT been on a visiting committee within the last two years. \nYou may register for this training by logging into the ACS WASC Member Portal. \nFor more information or assistance\, please contact the ACS WASC office at 650 696-1060 or training@acswasc.org.
URL:https://acswasc.org/event/2022-2023-acs-wasc-visiting-committee-member-training/
CATEGORIES:Training Calendar
END:VEVENT
BEGIN:VEVENT
DTSTART;TZID=America/Los_Angeles:20220823T090000
DTEND;TZID=America/Los_Angeles:20220823T120000
DTSTAMP:20260421T080105
CREATED:20220822T135732Z
LAST-MODIFIED:20220823T160815Z
UID:66522-1661245200-1661256000@acswasc.org
SUMMARY:2022-2023 WASC/CDE New Visiting Committee Member Training
DESCRIPTION:This training webinar is for team members on a visiting committee for a self-study to a California public or charter school. It is for people who are new members or have not been on a visiting committee within the last two years. \nYou may register for this training by logging into the ACS WASC Member Portal. \nFor more information or assistance\, please contact the ACS WASC office at 650 696-1060 or training@acswasc.org.
URL:https://acswasc.org/event/2022-2023-wasc-cde-new-visiting-committee-member-training/
LOCATION:Virtual
CATEGORIES:Training Calendar
END:VEVENT
BEGIN:VEVENT
DTSTART;TZID=America/Los_Angeles:20220822T090000
DTEND;TZID=America/Los_Angeles:20220822T120000
DTSTAMP:20260421T080105
CREATED:20220822T134414Z
LAST-MODIFIED:20220829T110859Z
UID:66521-1661158800-1661169600@acswasc.org
SUMMARY:2022-2023 WASC/CDE Visiting Committee Member Training
DESCRIPTION:This training webinar is for team members on a visiting committee for a self-study to a California public or charter school. It is for people who have been on a visiting committee within the last two years. \nYou may register for this training webinar by logging into the ACS WASC Member Portal. \nFor more information or assistance\, please contact the ACS WASC office at 650 696-1060 or via email at training@acswasc.org
URL:https://acswasc.org/event/2022-2023-wasc-cde-visiting-committee-member-training-17/2022-08-22/
LOCATION:Virtual
CATEGORIES:Training Calendar
END:VEVENT
BEGIN:VEVENT
DTSTART;TZID=America/Los_Angeles:20220819T090000
DTEND;TZID=America/Los_Angeles:20220819T120000
DTSTAMP:20260421T080105
CREATED:20220805T155952Z
LAST-MODIFIED:20220825T162612Z
UID:66391-1660899600-1660910400@acswasc.org
SUMMARY:2022-2023 WASC Initial Visit Training - Schools
DESCRIPTION:This training webinar is for a California school preparing for an Initial Visit. \nThe principal\, vice-principal\, and WASC coordinator for the school may register themselves or staff for this training webinar by logging into the ACS WASC School Portal. \nFor more information or assistance\, please contact the ACS WASC office at 650 696-1060 or training@acswasc.org.
URL:https://acswasc.org/event/2022-2023-wasc-initial-visit-training-schools/2022-08-19/
CATEGORIES:Training Calendar
END:VEVENT
BEGIN:VEVENT
DTSTART;TZID=America/Los_Angeles:20220818T090000
DTEND;TZID=America/Los_Angeles:20220818T120000
DTSTAMP:20260421T080105
CREATED:20220805T151237Z
LAST-MODIFIED:20220829T141750Z
UID:66384-1660813200-1660824000@acswasc.org
SUMMARY:2022-2023 WASC Mid-cycle Training - Visiting Committee Chairs and Members
DESCRIPTION:This training webinar is for chairs and members preparing for a mid-cycle visit to a California School (Public\, Private\, Adult\, Affiliated\, etc.).  \nYou may register for this training webinar by logging into the ACS WASC Member Portal. \nFor more information or assistance\, please contact the ACS WASC office at 650 696-1060 or training@acswasc.org.
URL:https://acswasc.org/event/2022-2023-wasc-mid-cycle-training-chairs-and-members-office-hours/2022-08-18/
CATEGORIES:Training Calendar
END:VEVENT
BEGIN:VEVENT
DTSTART;TZID=America/Los_Angeles:20220805T090000
DTEND;TZID=America/Los_Angeles:20220805T120000
DTSTAMP:20260421T080105
CREATED:20220805T185517Z
LAST-MODIFIED:20220825T154954Z
UID:66419-1659690000-1659700800@acswasc.org
SUMMARY:2023-2024 WASC FOL Part One Self Study Training
DESCRIPTION:
URL:https://acswasc.org/event/2023-2024-wasc-fol-part-one-self-study-training-2/
CATEGORIES:Training Calendar
END:VEVENT
BEGIN:VEVENT
DTSTART;TZID=UTC:20220505T090000
DTEND;TZID=UTC:20220505T120000
DTSTAMP:20260421T080105
CREATED:20210824T181708Z
LAST-MODIFIED:20220302T115307Z
UID:66082-1651741200-1651752000@acswasc.org
SUMMARY:2022-2023 WASC Part Three Training - Virtual
DESCRIPTION:Please contact Sylvia Taylor for additional information: staylor@acswasc.org
URL:https://acswasc.org/event/2022-2023-wasc-part-three-training-virtual/
CATEGORIES:Training Calendar
END:VEVENT
BEGIN:VEVENT
DTSTART;TZID=UTC:20220503T090000
DTEND;TZID=UTC:20220503T120000
DTSTAMP:20260421T080105
CREATED:20210824T181622Z
LAST-MODIFIED:20220302T115301Z
UID:66081-1651568400-1651579200@acswasc.org
SUMMARY:2022-2023 WASC/CDE Part Three Training - Virtual
DESCRIPTION:Please contact Sylvia Taylor for additional information: staylor@acswasc.org
URL:https://acswasc.org/event/2022-2023-wasc-cde-part-three-training-virtual-2/
CATEGORIES:Training Calendar
END:VEVENT
BEGIN:VEVENT
DTSTART;TZID=UTC:20220405T120000
DTEND;TZID=UTC:20220405T140000
DTSTAMP:20260421T080105
CREATED:20210824T181530Z
LAST-MODIFIED:20220302T115244Z
UID:66080-1649160000-1649167200@acswasc.org
SUMMARY:2022-2023 WASC Postsecondary Part Three Training - Virtual
DESCRIPTION:Please contact Sylvia Taylor for additional information: staylor@acswasc.org
URL:https://acswasc.org/event/2022-2023-wasc-postsecondary-part-three-training-virtual/
CATEGORIES:Training Calendar
END:VEVENT
BEGIN:VEVENT
DTSTART;TZID=UTC:20220331T090000
DTEND;TZID=UTC:20220331T100000
DTSTAMP:20260421T080105
CREATED:20210824T180726Z
LAST-MODIFIED:20220302T115235Z
UID:66078-1648717200-1648720800@acswasc.org
SUMMARY:2021-2022 WASC Visiting Committee Member Debrief - Virtual
DESCRIPTION:Please contact Sylvia Taylor for additional information: staylor@acswasc.org
URL:https://acswasc.org/event/2021-wasc-visiting-committee-member-debrief-virtual-2/
CATEGORIES:Training Calendar
END:VEVENT
BEGIN:VEVENT
DTSTART;TZID=UTC:20220317T090000
DTEND;TZID=UTC:20220317T120000
DTSTAMP:20260421T080105
CREATED:20210824T180620Z
LAST-MODIFIED:20220302T115220Z
UID:66077-1647507600-1647518400@acswasc.org
SUMMARY:2022-2023 WASC/CDE Part Three Training - Virtual
DESCRIPTION:Please contact Sylvia Taylor for additional information: staylor@acswasc.org
URL:https://acswasc.org/event/2022-2023-wasc-cde-part-three-training-virtual/
CATEGORIES:Training Calendar
END:VEVENT
BEGIN:VEVENT
DTSTART;TZID=UTC:20220315T090000
DTEND;TZID=UTC:20220315T110000
DTSTAMP:20260421T080105
CREATED:20210824T180532Z
LAST-MODIFIED:20220302T115217Z
UID:66076-1647334800-1647342000@acswasc.org
SUMMARY:2022 WASC/CDE Visiting Committee Member Training\, Office Hours - Virtual
DESCRIPTION:Please contact Sylvia Taylor for additional information: staylor@acswasc.org
URL:https://acswasc.org/event/2022-wasc-cde-visiting-committee-member-training-office-hours-virtual-2/
CATEGORIES:Training Calendar
END:VEVENT
BEGIN:VEVENT
DTSTART;TZID=UTC:20220314T090000
DTEND;TZID=UTC:20220314T110000
DTSTAMP:20260421T080105
CREATED:20210824T180437Z
LAST-MODIFIED:20220302T115213Z
UID:66075-1647248400-1647255600@acswasc.org
SUMMARY:2022 WASC Visiting Committee Member Training\, Office Hours - Virtual
DESCRIPTION:Please contact Sylvia Taylor for additional information: staylor@acswasc.org
URL:https://acswasc.org/event/2022-wasc-visiting-committee-member-training-office-hours-virtual-2/
CATEGORIES:Training Calendar
END:VEVENT
BEGIN:VEVENT
DTSTART;TZID=UTC:20220311T130000
DTEND;TZID=UTC:20220311T160000
DTSTAMP:20260421T080105
CREATED:20210824T180340Z
LAST-MODIFIED:20220302T115209Z
UID:66074-1647003600-1647014400@acswasc.org
SUMMARY:2022-2023 WASC Part Three Training (private schools) - Virtual
DESCRIPTION:Please contact Sylvia Taylor for additional information: staylor@acswasc.org
URL:https://acswasc.org/event/2022-2023-wasc-part-three-training-private-schools-virtual/
CATEGORIES:Training Calendar
END:VEVENT
BEGIN:VEVENT
DTSTART;TZID=UTC:20220310T090000
DTEND;TZID=UTC:20220310T120000
DTSTAMP:20260421T080105
CREATED:20210824T180219Z
LAST-MODIFIED:20220302T115206Z
UID:66073-1646902800-1646913600@acswasc.org
SUMMARY:2021-2022 WASC New Visiting Committee Member Training - Virtual
DESCRIPTION:Please contact Sylvia Taylor for additional information: staylor@acswasc.org
URL:https://acswasc.org/event/2021-2022-wasc-new-visiting-committee-member-training-virtual-3/
CATEGORIES:Training Calendar
END:VEVENT
BEGIN:VEVENT
DTSTART;TZID=UTC:20220309T090000
DTEND;TZID=UTC:20220309T110000
DTSTAMP:20260421T080105
CREATED:20210824T180126Z
LAST-MODIFIED:20220302T115203Z
UID:66072-1646816400-1646823600@acswasc.org
SUMMARY:2022-2023 WASC Postsecondary Part Two Training\, Office Hours - Virtual
DESCRIPTION:Please contact Sylvia Taylor for additional information: staylor@acswasc.org
URL:https://acswasc.org/event/2022-2023-wasc-postsecondary-part-two-training-office-hours-virtual/
CATEGORIES:Training Calendar
END:VEVENT
BEGIN:VEVENT
DTSTART;TZID=UTC:20220308T090000
DTEND;TZID=UTC:20220308T120000
DTSTAMP:20260421T080105
CREATED:20210824T180028Z
LAST-MODIFIED:20220302T115159Z
UID:66071-1646730000-1646740800@acswasc.org
SUMMARY:2021-2022 WASC/CDE New Visiting Committee Member Training - Virtual
DESCRIPTION:Please contact Sylvia Taylor for additional information: staylor@acswasc.org
URL:https://acswasc.org/event/2021-2022-wasc-cde-new-visiting-committee-member-training-virtual-3/
CATEGORIES:Training Calendar
END:VEVENT
BEGIN:VEVENT
DTSTART;TZID=UTC:20220301T090000
DTEND;TZID=UTC:20220301T100000
DTSTAMP:20260421T080105
CREATED:20210824T175928Z
LAST-MODIFIED:20220315T213710Z
UID:66070-1646125200-1646128800@acswasc.org
SUMMARY:2021-2022 WASC Postsecondary Visiting Committee Member Debrief - Virtual
DESCRIPTION:Please contact Sylvia Taylor for additional information: staylor@acswasc.org
URL:https://acswasc.org/event/2021-wasc-postsecondary-visiting-committee-member-debrief-virtual/
CATEGORIES:Training Calendar
END:VEVENT
BEGIN:VEVENT
DTSTART;TZID=UTC:20220225T090000
DTEND;TZID=UTC:20220225T110000
DTSTAMP:20260421T080105
CREATED:20210824T175528Z
LAST-MODIFIED:20220302T115153Z
UID:66066-1645779600-1645786800@acswasc.org
SUMMARY:2022-2023 WASC Part Two Training\, Office Hours - Virtual
DESCRIPTION:Please contact Sylvia Taylor for additional information: staylor@acswasc.org
URL:https://acswasc.org/event/2022-2023-wasc-part-two-training-office-hours-virtual/
CATEGORIES:Training Calendar
END:VEVENT
BEGIN:VEVENT
DTSTART;TZID=UTC:20220224T090000
DTEND;TZID=UTC:20220224T110000
DTSTAMP:20260421T080105
CREATED:20210824T175824Z
LAST-MODIFIED:20220302T115150Z
UID:66069-1645693200-1645700400@acswasc.org
SUMMARY:2022 WASC Visiting Committee Member Training\, Office Hours - Virtual
DESCRIPTION:Please contact Sylvia Taylor for additional information: staylor@acswasc.org
URL:https://acswasc.org/event/2022-wasc-visiting-committee-member-training-office-hours-virtual/
CATEGORIES:Training Calendar
END:VEVENT
BEGIN:VEVENT
DTSTART;TZID=UTC:20220222T090000
DTEND;TZID=UTC:20220222T110000
DTSTAMP:20260421T080105
CREATED:20210824T175733Z
LAST-MODIFIED:20220302T115143Z
UID:66068-1645520400-1645527600@acswasc.org
SUMMARY:2022 WASC/CDE Visiting Committee Member Training\, Office Hours - Virtual
DESCRIPTION:Please contact Sylvia Taylor for additional information: staylor@acswasc.org
URL:https://acswasc.org/event/2022-wasc-cde-visiting-committee-member-training-office-hours-virtual/
CATEGORIES:Training Calendar
END:VEVENT
BEGIN:VEVENT
DTSTART;TZID=UTC:20220217T090000
DTEND;TZID=UTC:20220217T110000
DTSTAMP:20260421T080105
CREATED:20210824T175623Z
LAST-MODIFIED:20220302T115136Z
UID:66067-1645088400-1645095600@acswasc.org
SUMMARY:2022-2023 WASC/CDE Part Two Training\, Office Hours - Virtual
DESCRIPTION:Please contact Sylvia Taylor for additional information: staylor@acswasc.org
URL:https://acswasc.org/event/2022-2023-wasc-cde-part-two-training-office-hours-virtual/
CATEGORIES:Training Calendar
END:VEVENT
BEGIN:VEVENT
DTSTART;TZID=UTC:20220211T130000
DTEND;TZID=UTC:20220211T153000
DTSTAMP:20260421T080105
CREATED:20220209T222448Z
LAST-MODIFIED:20220302T115129Z
UID:66258-1644584400-1644593400@acswasc.org
SUMMARY:2022 WASC Mid-cycle Training\, Chairs & Members
DESCRIPTION:
URL:https://acswasc.org/event/2022-wasc-mid-cycle-training-chairs-members/
CATEGORIES:Training Calendar
END:VEVENT
BEGIN:VEVENT
DTSTART;TZID=UTC:20220210T090000
DTEND;TZID=UTC:20220210T110000
DTSTAMP:20260421T080105
CREATED:20220209T222349Z
LAST-MODIFIED:20220302T115124Z
UID:66257-1644483600-1644490800@acswasc.org
SUMMARY:WASC 2022 Mid-cycle Training\, Schools
DESCRIPTION:
URL:https://acswasc.org/event/wasc-2022-mid-cycle-training-schools/
CATEGORIES:Training Calendar
END:VEVENT
BEGIN:VEVENT
DTSTART;TZID=UTC:20220131T090000
DTEND;TZID=UTC:20220131T120000
DTSTAMP:20260421T080105
CREATED:20210824T175441Z
LAST-MODIFIED:20220302T115108Z
UID:66065-1643619600-1643630400@acswasc.org
SUMMARY:2022-2023 WASC Part Two Training - Virtual
DESCRIPTION:Please contact Sylvia Taylor for additional information: staylor@acswasc.org
URL:https://acswasc.org/event/2022-2023-wasc-part-two-training-virtual/
CATEGORIES:Training Calendar
END:VEVENT
END:VCALENDAR