BEGIN:VCALENDAR
VERSION:2.0
PRODID:-//Accrediting Commission for Schools - ECPv6.15.20//NONSGML v1.0//EN
CALSCALE:GREGORIAN
METHOD:PUBLISH
X-WR-CALNAME:Accrediting Commission for Schools
X-ORIGINAL-URL:https://acswasc.org
X-WR-CALDESC:Events for Accrediting Commission for Schools
REFRESH-INTERVAL;VALUE=DURATION:PT1H
X-Robots-Tag:noindex
X-PUBLISHED-TTL:PT1H
BEGIN:VTIMEZONE
TZID:America/Los_Angeles
BEGIN:DAYLIGHT
TZOFFSETFROM:-0800
TZOFFSETTO:-0700
TZNAME:PDT
DTSTART:20220313T100000
END:DAYLIGHT
BEGIN:STANDARD
TZOFFSETFROM:-0700
TZOFFSETTO:-0800
TZNAME:PST
DTSTART:20221106T090000
END:STANDARD
BEGIN:DAYLIGHT
TZOFFSETFROM:-0800
TZOFFSETTO:-0700
TZNAME:PDT
DTSTART:20230312T100000
END:DAYLIGHT
BEGIN:STANDARD
TZOFFSETFROM:-0700
TZOFFSETTO:-0800
TZNAME:PST
DTSTART:20231105T090000
END:STANDARD
BEGIN:DAYLIGHT
TZOFFSETFROM:-0800
TZOFFSETTO:-0700
TZNAME:PDT
DTSTART:20240310T100000
END:DAYLIGHT
BEGIN:STANDARD
TZOFFSETFROM:-0700
TZOFFSETTO:-0800
TZNAME:PST
DTSTART:20241103T090000
END:STANDARD
END:VTIMEZONE
BEGIN:VTIMEZONE
TZID:UTC
BEGIN:STANDARD
TZOFFSETFROM:+0000
TZOFFSETTO:+0000
TZNAME:UTC
DTSTART:20220101T000000
END:STANDARD
END:VTIMEZONE
BEGIN:VEVENT
DTSTART;TZID=America/Los_Angeles:20230511T090000
DTEND;TZID=America/Los_Angeles:20230511T120000
DTSTAMP:20260420T203850
CREATED:20220808T014922Z
LAST-MODIFIED:20220902T182124Z
UID:66495-1683795600-1683806400@acswasc.org
SUMMARY:2023-2024 WASC FOL Part Three Self-Study Training
DESCRIPTION:
URL:https://acswasc.org/event/2023-2024-wasc-fol-part-three-self-study-training/
CATEGORIES:Training Calendar
END:VEVENT
BEGIN:VEVENT
DTSTART;TZID=America/Los_Angeles:20230510T150000
DTEND;TZID=America/Los_Angeles:20230510T170000
DTSTAMP:20260420T203850
CREATED:20220808T014814Z
LAST-MODIFIED:20220902T182149Z
UID:66494-1683730800-1683738000@acswasc.org
SUMMARY:2022-2023 WASC and WASC/CDE Visiting Committee Member Debrief
DESCRIPTION:
URL:https://acswasc.org/event/2022-2023-wasc-and-wasc-cde-visiting-committee-member-debrief/
CATEGORIES:Training Calendar
END:VEVENT
BEGIN:VEVENT
DTSTART;TZID=America/Los_Angeles:20230509T090000
DTEND;TZID=America/Los_Angeles:20230509T120000
DTSTAMP:20260420T203850
CREATED:20220808T014656Z
LAST-MODIFIED:20220902T182204Z
UID:66493-1683622800-1683633600@acswasc.org
SUMMARY:2023-2024 WASC Part Three Self-Study Training
DESCRIPTION:
URL:https://acswasc.org/event/2023-2024-wasc-part-three-self-study-training/
CATEGORIES:Training Calendar
END:VEVENT
BEGIN:VEVENT
DTSTART;TZID=America/Los_Angeles:20230509T090000
DTEND;TZID=America/Los_Angeles:20230509T110000
DTSTAMP:20260420T203850
CREATED:20220805T203108Z
LAST-MODIFIED:20230508T202855Z
UID:66462-1683622800-1683630000@acswasc.org
SUMMARY:2022-2023 WASC Postsecondary Visiting Committee Member Training (Office Hours) - CANCELLED
DESCRIPTION:
URL:https://acswasc.org/event/2022-2023-wasc-postsecondary-visiting-committee-member-training-office-hours-cancelled/
CATEGORIES:Training Calendar
END:VEVENT
BEGIN:VEVENT
DTSTART;TZID=America/Los_Angeles:20230504T090000
DTEND;TZID=America/Los_Angeles:20230504T120000
DTSTAMP:20260420T203850
CREATED:20220808T014622Z
LAST-MODIFIED:20220902T182224Z
UID:66492-1683190800-1683201600@acswasc.org
SUMMARY:2023-2024 WASC/CDE Part Three Self-Study Training
DESCRIPTION:
URL:https://acswasc.org/event/2023-2024-wasc-cde-part-three-self-study-training/
CATEGORIES:Training Calendar
END:VEVENT
BEGIN:VEVENT
DTSTART;TZID=America/Los_Angeles:20230502T090000
DTEND;TZID=America/Los_Angeles:20230502T120000
DTSTAMP:20260420T203850
CREATED:20220808T014443Z
LAST-MODIFIED:20220902T182239Z
UID:66491-1683018000-1683028800@acswasc.org
SUMMARY:2023-2024 WASC/CDE Part Three Self-Study Training
DESCRIPTION:
URL:https://acswasc.org/event/2023-2024-wasc-cde-part-two-self-study-training-15/
CATEGORIES:Training Calendar
END:VEVENT
BEGIN:VEVENT
DTSTART;TZID=America/Los_Angeles:20230406T150000
DTEND;TZID=America/Los_Angeles:20230406T170000
DTSTAMP:20260420T203850
CREATED:20220808T014341Z
LAST-MODIFIED:20220902T182253Z
UID:66490-1680793200-1680800400@acswasc.org
SUMMARY:2023-2024 WASC/CDE and WASC Part Two Self-Study Training (Office Hours)
DESCRIPTION:
URL:https://acswasc.org/event/2023-2024-wasc-cde-and-wasc-part-two-training-office-hours/
CATEGORIES:Training Calendar
END:VEVENT
BEGIN:VEVENT
DTSTART;TZID=America/Los_Angeles:20230323T150000
DTEND;TZID=America/Los_Angeles:20230323T170000
DTSTAMP:20260420T203850
CREATED:20220808T013723Z
LAST-MODIFIED:20230302T193226Z
UID:66486-1679583600-1679590800@acswasc.org
SUMMARY:2022-2023 WASC/CDE Continuation Schools (Office Hours)
DESCRIPTION:
URL:https://acswasc.org/event/2022-2023-wasc-cde-continuation-schools-office-hours/
CATEGORIES:Training Calendar
END:VEVENT
BEGIN:VEVENT
DTSTART;TZID=America/Los_Angeles:20230322T150000
DTEND;TZID=America/Los_Angeles:20230322T170000
DTSTAMP:20260420T203850
CREATED:20220314T085311Z
LAST-MODIFIED:20230314T155339Z
UID:66488-1679497200-1679504400@acswasc.org
SUMMARY:2022-2023 WASC/CDE and WASC Visiting Committee Member Debrief
DESCRIPTION:
URL:https://acswasc.org/event/2022-2023-wasc-cde-and-wasc-visiting-committee-member-debrief/
CATEGORIES:Training Calendar
END:VEVENT
BEGIN:VEVENT
DTSTART;TZID=America/Los_Angeles:20230316T150000
DTEND;TZID=America/Los_Angeles:20230316T170000
DTSTAMP:20260420T203850
CREATED:20220808T014226Z
LAST-MODIFIED:20220902T182312Z
UID:66489-1678978800-1678986000@acswasc.org
SUMMARY:2022-2023 WASC Probationary and Mid-cycle Visits (Office Hours - Optional)
DESCRIPTION:
URL:https://acswasc.org/event/2022-2023-wasc-probationary-and-mid-cycle-visits-office-hours/
CATEGORIES:Training Calendar
END:VEVENT
BEGIN:VEVENT
DTSTART;TZID=America/Los_Angeles:20230314T090000
DTEND;TZID=America/Los_Angeles:20230314T110000
DTSTAMP:20260420T203850
CREATED:20220805T202946Z
LAST-MODIFIED:20220825T174641Z
UID:66461-1678784400-1678791600@acswasc.org
SUMMARY:2023-2024 WASC Postsecondary Parts One through Three Self-Study Training (Office Hours)
DESCRIPTION:
URL:https://acswasc.org/event/2023-2024-wasc-postsecondary-parts-one-through-three-self-study-training-office-hours/
CATEGORIES:Training Calendar
END:VEVENT
BEGIN:VEVENT
DTSTART;TZID=America/Los_Angeles:20230307T090000
DTEND;TZID=America/Los_Angeles:20230307T120000
DTSTAMP:20260420T203850
CREATED:20220808T013812Z
LAST-MODIFIED:20220902T182458Z
UID:66487-1678179600-1678190400@acswasc.org
SUMMARY:2022-2023 WASC/CDE Visiting Committee Member Training
DESCRIPTION:
URL:https://acswasc.org/event/2022-2023-wasc-cde-visiting-committee-member-training-13/
CATEGORIES:Training Calendar
END:VEVENT
BEGIN:VEVENT
DTSTART;TZID=America/Los_Angeles:20230228T090000
DTEND;TZID=America/Los_Angeles:20230228T110000
DTSTAMP:20260420T203850
CREATED:20220805T202824Z
LAST-MODIFIED:20220825T174453Z
UID:66460-1677574800-1677582000@acswasc.org
SUMMARY:2023-2024 WASC Postsecondary Part Three Self-Study Training
DESCRIPTION:
URL:https://acswasc.org/event/2023-2024-wasc-postsecondary-part-three-self-study-training/
CATEGORIES:Training Calendar
END:VEVENT
BEGIN:VEVENT
DTSTART;TZID=UTC:20230227T090000
DTEND;TZID=UTC:20230227T120000
DTSTAMP:20260420T203850
CREATED:20220808T012452Z
LAST-MODIFIED:20220911T211616Z
UID:66485-1677488400-1677499200@acswasc.org
SUMMARY:2023-2024 WASC/CDE Part Two Self-Study Training
DESCRIPTION:
URL:https://acswasc.org/event/2023-2024-wasc-cde-part-two-self-study-training-14/
CATEGORIES:Training Calendar
END:VEVENT
BEGIN:VEVENT
DTSTART;TZID=UTC:20230223T090000
DTEND;TZID=UTC:20230223T120000
DTSTAMP:20260420T203850
CREATED:20220808T012417Z
LAST-MODIFIED:20220919T230720Z
UID:66484-1677142800-1677153600@acswasc.org
SUMMARY:2023-2024 WASC/CDE Part Two Self Study Training
DESCRIPTION:
URL:https://acswasc.org/event/2023-2024-wasc-cde-part-two-self-study-training-13/
CATEGORIES:Training Calendar
END:VEVENT
BEGIN:VEVENT
DTSTART;TZID=UTC:20230222T090000
DTEND;TZID=UTC:20230222T120000
DTSTAMP:20260420T203850
CREATED:20220808T012349Z
LAST-MODIFIED:20220919T230751Z
UID:66483-1677056400-1677067200@acswasc.org
SUMMARY:2023-2024 WASC/CDE Part Two Self Study Training
DESCRIPTION:
URL:https://acswasc.org/event/2023-2024-wasc-cde-part-two-self-study-training-12/
CATEGORIES:Training Calendar
END:VEVENT
BEGIN:VEVENT
DTSTART;TZID=UTC:20230221T090000
DTEND;TZID=UTC:20230221T120000
DTSTAMP:20260420T203850
CREATED:20220808T012318Z
LAST-MODIFIED:20220919T230825Z
UID:66482-1676970000-1676980800@acswasc.org
SUMMARY:2023-2024 WASC/CDE Part Two Self Study Training
DESCRIPTION:
URL:https://acswasc.org/event/2023-2024-wasc-cde-part-two-self-study-training-11/
CATEGORIES:Training Calendar
END:VEVENT
BEGIN:VEVENT
DTSTART;TZID=UTC:20230217T090000
DTEND;TZID=UTC:20230217T120000
DTSTAMP:20260420T203850
CREATED:20220808T012235Z
LAST-MODIFIED:20220919T230848Z
UID:66481-1676624400-1676635200@acswasc.org
SUMMARY:2023-2024 WASC/CDE Part Two Self Study Training
DESCRIPTION:
URL:https://acswasc.org/event/2023-2024-wasc-cde-part-two-self-study-training-10/
CATEGORIES:Training Calendar
END:VEVENT
BEGIN:VEVENT
DTSTART;TZID=UTC:20230216T150000
DTEND;TZID=UTC:20230216T170000
DTSTAMP:20260420T203850
CREATED:20220808T012144Z
LAST-MODIFIED:20220919T230903Z
UID:66480-1676559600-1676566800@acswasc.org
SUMMARY:2022-2023 WASC/CDE & WASC Part Two Training (Office Hours)
DESCRIPTION:
URL:https://acswasc.org/event/2022-2023-wasc-cde-wasc-part-two-training-office-hours/
CATEGORIES:Training Calendar
END:VEVENT
BEGIN:VEVENT
DTSTART;TZID=UTC:20230216T090000
DTEND;TZID=UTC:20230216T120000
DTSTAMP:20260420T203850
CREATED:20220808T012029Z
LAST-MODIFIED:20220919T230920Z
UID:66479-1676538000-1676548800@acswasc.org
SUMMARY:2023-2024 WASC/CDE Part Two Self Study Training
DESCRIPTION:
URL:https://acswasc.org/event/2023-2024-wasc-cde-part-two-self-study-training-9/
CATEGORIES:Training Calendar
END:VEVENT
BEGIN:VEVENT
DTSTART;TZID=UTC:20230215T090000
DTEND;TZID=UTC:20230215T120000
DTSTAMP:20260420T203850
CREATED:20220808T011943Z
LAST-MODIFIED:20220920T145002Z
UID:66478-1676451600-1676462400@acswasc.org
SUMMARY:2023-2024 WASC/CDE Part Two Self Study Training
DESCRIPTION:
URL:https://acswasc.org/event/2023-2024-wasc-cde-part-two-self-study-training-8/
CATEGORIES:Training Calendar
END:VEVENT
BEGIN:VEVENT
DTSTART;TZID=UTC:20230210T090000
DTEND;TZID=UTC:20230210T120000
DTSTAMP:20260420T203850
CREATED:20220808T011843Z
LAST-MODIFIED:20220920T145054Z
UID:66477-1676019600-1676030400@acswasc.org
SUMMARY:2022-2023 WASC Mid-cycle Training - Schools
DESCRIPTION:
URL:https://acswasc.org/event/2022-2023-wasc-mid-cycle-training-schools-4/
CATEGORIES:Training Calendar
END:VEVENT
BEGIN:VEVENT
DTSTART;TZID=UTC:20230209T090000
DTEND;TZID=UTC:20230209T120000
DTSTAMP:20260420T203850
CREATED:20220808T011752Z
LAST-MODIFIED:20220920T145117Z
UID:66476-1675933200-1675944000@acswasc.org
SUMMARY:2023-2024 WASC/CDE Part Two Self Study Training
DESCRIPTION:
URL:https://acswasc.org/event/2023-2024-wasc-cde-part-two-self-study-training-7/
CATEGORIES:Training Calendar
END:VEVENT
BEGIN:VEVENT
DTSTART;TZID=UTC:20230208T090000
DTEND;TZID=UTC:20230208T120000
DTSTAMP:20260420T203850
CREATED:20220808T011703Z
LAST-MODIFIED:20220920T145157Z
UID:66475-1675846800-1675857600@acswasc.org
SUMMARY:2022-2023 WASC FOL Visiting Committee Member Training
DESCRIPTION:
URL:https://acswasc.org/event/2022-2023-wasc-fol-visiting-committee-member-training-2/
CATEGORIES:Training Calendar
END:VEVENT
BEGIN:VEVENT
DTSTART;TZID=UTC:20230207T090000
DTEND;TZID=UTC:20230207T120000
DTSTAMP:20260420T203850
CREATED:20220808T011607Z
LAST-MODIFIED:20220920T145215Z
UID:66474-1675760400-1675771200@acswasc.org
SUMMARY:2023-2024 WASC/CDE Part Two Self Study Training
DESCRIPTION:
URL:https://acswasc.org/event/2023-2024-wasc-cde-part-two-self-study-training-6/
CATEGORIES:Training Calendar
END:VEVENT
BEGIN:VEVENT
DTSTART;TZID=UTC:20230206T090000
DTEND;TZID=UTC:20230206T120000
DTSTAMP:20260420T203850
CREATED:20220808T011512Z
LAST-MODIFIED:20220920T145233Z
UID:66473-1675674000-1675684800@acswasc.org
SUMMARY:2022-2023 WASC/CDE Visiting Committee Member Training
DESCRIPTION:
URL:https://acswasc.org/event/2022-2023-wasc-cde-visiting-committee-member-training-12/
CATEGORIES:Training Calendar
END:VEVENT
BEGIN:VEVENT
DTSTART;TZID=UTC:20230203T090000
DTEND;TZID=UTC:20230203T120000
DTSTAMP:20260420T203850
CREATED:20220808T011359Z
LAST-MODIFIED:20220920T145255Z
UID:66471-1675414800-1675425600@acswasc.org
SUMMARY:2023-2024 WASC FOL Part Two Self Study Training
DESCRIPTION:
URL:https://acswasc.org/event/2023-2024-wasc-fol-part-two-self-study-training-2/
CATEGORIES:Training Calendar
END:VEVENT
BEGIN:VEVENT
DTSTART;TZID=UTC:20230202T150000
DTEND;TZID=UTC:20230202T170000
DTSTAMP:20260420T203850
CREATED:20220808T011311Z
LAST-MODIFIED:20220920T145311Z
UID:66470-1675350000-1675357200@acswasc.org
SUMMARY:2022-2023 WASC Office Hours (Optional) - Visiting Committee Chairs and Members
DESCRIPTION:
URL:https://acswasc.org/event/2022-2023-wasc-office-hours-chairs-and-visiting-committee-members/
CATEGORIES:Training Calendar
END:VEVENT
BEGIN:VEVENT
DTSTART;TZID=UTC:20230202T090000
DTEND;TZID=UTC:20230202T120000
DTSTAMP:20260420T203850
CREATED:20220808T011159Z
LAST-MODIFIED:20220920T145333Z
UID:66469-1675328400-1675339200@acswasc.org
SUMMARY:2023-2024 WASC/CDE Part Two Self Study Training
DESCRIPTION:
URL:https://acswasc.org/event/2023-2024-wasc-cde-part-two-self-study-training-5/
CATEGORIES:Training Calendar
END:VEVENT
BEGIN:VEVENT
DTSTART;TZID=UTC:20230201T090000
DTEND;TZID=UTC:20230201T120000
DTSTAMP:20260420T203850
CREATED:20220808T011101Z
LAST-MODIFIED:20220920T145346Z
UID:66468-1675242000-1675252800@acswasc.org
SUMMARY:2023-2024 WASC/CDE Part Two Self Study Training
DESCRIPTION:
URL:https://acswasc.org/event/2023-2024-wasc-cde-part-two-self-study-training-4/
CATEGORIES:Training Calendar
END:VEVENT
END:VCALENDAR