BEGIN:VCALENDAR
VERSION:2.0
PRODID:-//Accrediting Commission for Schools - ECPv6.15.20//NONSGML v1.0//EN
CALSCALE:GREGORIAN
METHOD:PUBLISH
X-WR-CALNAME:Accrediting Commission for Schools
X-ORIGINAL-URL:https://acswasc.org
X-WR-CALDESC:Events for Accrediting Commission for Schools
REFRESH-INTERVAL;VALUE=DURATION:PT1H
X-Robots-Tag:noindex
X-PUBLISHED-TTL:PT1H
BEGIN:VTIMEZONE
TZID:UTC
BEGIN:STANDARD
TZOFFSETFROM:+0000
TZOFFSETTO:+0000
TZNAME:UTC
DTSTART:20210101T000000
END:STANDARD
END:VTIMEZONE
BEGIN:VEVENT
DTSTART;TZID=UTC:20220209T160000
DTEND;TZID=UTC:20220209T180000
DTSTAMP:20260420T062709
CREATED:20220111T125509Z
LAST-MODIFIED:20220307T215548Z
UID:66205-1644422400-1644429600@acswasc.org
SUMMARY:WASC Visiting Committee Member Training - Europe\, Middle East and Africa
DESCRIPTION:
URL:https://acswasc.org/event/wasc-visiting-committee-member-training-europe-middle-east-and-africa-7/
CATEGORIES:International Training Calendar
END:VEVENT
END:VCALENDAR