BEGIN:VCALENDAR
VERSION:2.0
PRODID:-//Accrediting Commission for Schools - ECPv6.15.20//NONSGML v1.0//EN
CALSCALE:GREGORIAN
METHOD:PUBLISH
X-WR-CALNAME:Accrediting Commission for Schools
X-ORIGINAL-URL:https://acswasc.org
X-WR-CALDESC:Events for Accrediting Commission for Schools
REFRESH-INTERVAL;VALUE=DURATION:PT1H
X-Robots-Tag:noindex
X-PUBLISHED-TTL:PT1H
BEGIN:VTIMEZONE
TZID:America/Los_Angeles
BEGIN:DAYLIGHT
TZOFFSETFROM:-0800
TZOFFSETTO:-0700
TZNAME:PDT
DTSTART:20210314T100000
END:DAYLIGHT
BEGIN:STANDARD
TZOFFSETFROM:-0700
TZOFFSETTO:-0800
TZNAME:PST
DTSTART:20211107T090000
END:STANDARD
BEGIN:DAYLIGHT
TZOFFSETFROM:-0800
TZOFFSETTO:-0700
TZNAME:PDT
DTSTART:20220313T100000
END:DAYLIGHT
BEGIN:STANDARD
TZOFFSETFROM:-0700
TZOFFSETTO:-0800
TZNAME:PST
DTSTART:20221106T090000
END:STANDARD
BEGIN:DAYLIGHT
TZOFFSETFROM:-0800
TZOFFSETTO:-0700
TZNAME:PDT
DTSTART:20230312T100000
END:DAYLIGHT
BEGIN:STANDARD
TZOFFSETFROM:-0700
TZOFFSETTO:-0800
TZNAME:PST
DTSTART:20231105T090000
END:STANDARD
END:VTIMEZONE
BEGIN:VEVENT
DTSTART;TZID=America/Los_Angeles:20220830T100000
DTEND;TZID=America/Los_Angeles:20220830T120000
DTSTAMP:20260420T011156
CREATED:20220805T161514Z
LAST-MODIFIED:20220829T104031Z
UID:66396-1661853600-1661860800@acswasc.org
SUMMARY:2022-2023 WASC Experienced Visiting Committee Chair Training
DESCRIPTION:This training is for experienced chairs preparing for a self-study visit to a California School (Public\, Private\, Adult\, Affiliated\, etc.). “Experienced” means that the chair has been on a self-study visit in the last two years. \nYou may register for this training by logging into the ACS WASC Member Portal. \nFor more information or assistance\, please contact the ACS WASC office at 650 696-1060 or training@acswasc.org.
URL:https://acswasc.org/event/2022-2023-wasc-experienced-chair-training/2022-08-30/
CATEGORIES:Training Calendar
END:VEVENT
END:VCALENDAR