BEGIN:VCALENDAR
VERSION:2.0
PRODID:-//Accrediting Commission for Schools - ECPv6.15.20//NONSGML v1.0//EN
CALSCALE:GREGORIAN
METHOD:PUBLISH
X-WR-CALNAME:Accrediting Commission for Schools
X-ORIGINAL-URL:https://acswasc.org
X-WR-CALDESC:Events for Accrediting Commission for Schools
REFRESH-INTERVAL;VALUE=DURATION:PT1H
X-Robots-Tag:noindex
X-PUBLISHED-TTL:PT1H
BEGIN:VTIMEZONE
TZID:UTC
BEGIN:STANDARD
TZOFFSETFROM:+0000
TZOFFSETTO:+0000
TZNAME:UTC
DTSTART:20200101T000000
END:STANDARD
END:VTIMEZONE
BEGIN:VEVENT
DTSTART;TZID=UTC:20210921T090000
DTEND;TZID=UTC:20210921T120000
DTSTAMP:20260420T150800
CREATED:20210824T150904Z
LAST-MODIFIED:20220302T114832Z
UID:66041-1632214800-1632225600@acswasc.org
SUMMARY:2021-2022 WASC/CDE Part Three Training (public and charter schools)\, Additional Office Hours - Virtual
DESCRIPTION:Please contact Sylvia Taylor for additional information: staylor@acswasc.org
URL:https://acswasc.org/event/2022-2023-wasc-cde-part-three-training-public-and-charter-schools-additional-office-hours-virtual/
CATEGORIES:Training Calendar
END:VEVENT
END:VCALENDAR