BEGIN:VCALENDAR
VERSION:2.0
PRODID:-//Accrediting Commission for Schools - ECPv6.15.20//NONSGML v1.0//EN
CALSCALE:GREGORIAN
METHOD:PUBLISH
X-WR-CALNAME:Accrediting Commission for Schools
X-ORIGINAL-URL:https://acswasc.org
X-WR-CALDESC:Events for Accrediting Commission for Schools
REFRESH-INTERVAL;VALUE=DURATION:PT1H
X-Robots-Tag:noindex
X-PUBLISHED-TTL:PT1H
BEGIN:VTIMEZONE
TZID:UTC
BEGIN:STANDARD
TZOFFSETFROM:+0000
TZOFFSETTO:+0000
TZNAME:UTC
DTSTART:20200101T000000
END:STANDARD
END:VTIMEZONE
BEGIN:VEVENT
DTSTART;TZID=UTC:20210914T090000
DTEND;TZID=UTC:20210914T120000
DTSTAMP:20260420T150800
CREATED:20210824T150417Z
LAST-MODIFIED:20220302T114820Z
UID:66038-1631610000-1631620800@acswasc.org
SUMMARY:2022-2023 WASC/CDE Part One Training (public and charter schools) - Virtual
DESCRIPTION:Please contact Sylvia Taylor for additional information: staylor@acswasc.org
URL:https://acswasc.org/event/2022-2023-wasc-cde-part-one-training-public-and-charter-schools-virtual/
CATEGORIES:Training Calendar
END:VEVENT
END:VCALENDAR