BEGIN:VCALENDAR
VERSION:2.0
PRODID:-//Accrediting Commission for Schools - ECPv6.15.20//NONSGML v1.0//EN
CALSCALE:GREGORIAN
METHOD:PUBLISH
X-WR-CALNAME:Accrediting Commission for Schools
X-ORIGINAL-URL:https://acswasc.org
X-WR-CALDESC:Events for Accrediting Commission for Schools
REFRESH-INTERVAL;VALUE=DURATION:PT1H
X-Robots-Tag:noindex
X-PUBLISHED-TTL:PT1H
BEGIN:VTIMEZONE
TZID:America/Los_Angeles
BEGIN:DAYLIGHT
TZOFFSETFROM:-0800
TZOFFSETTO:-0700
TZNAME:PDT
DTSTART:20210314T100000
END:DAYLIGHT
BEGIN:STANDARD
TZOFFSETFROM:-0700
TZOFFSETTO:-0800
TZNAME:PST
DTSTART:20211107T090000
END:STANDARD
BEGIN:DAYLIGHT
TZOFFSETFROM:-0800
TZOFFSETTO:-0700
TZNAME:PDT
DTSTART:20220313T100000
END:DAYLIGHT
BEGIN:STANDARD
TZOFFSETFROM:-0700
TZOFFSETTO:-0800
TZNAME:PST
DTSTART:20221106T090000
END:STANDARD
BEGIN:DAYLIGHT
TZOFFSETFROM:-0800
TZOFFSETTO:-0700
TZNAME:PDT
DTSTART:20230312T100000
END:DAYLIGHT
BEGIN:STANDARD
TZOFFSETFROM:-0700
TZOFFSETTO:-0800
TZNAME:PST
DTSTART:20231105T090000
END:STANDARD
END:VTIMEZONE
BEGIN:VEVENT
DTSTART;TZID=America/Los_Angeles:20220824T090000
DTEND;TZID=America/Los_Angeles:20220824T120000
DTSTAMP:20260419T231834
CREATED:20220805T160741Z
LAST-MODIFIED:20220825T155456Z
UID:66392-1661331600-1661342400@acswasc.org
SUMMARY:2022-2023 ACS WASC FOL New Visiting Committee Member Training
DESCRIPTION:FOL (Focus on Learning) \nThis training is for team members on a visiting committee for a self-study to a California private school or WASC affiliated visit. It is for people who are new members or have NOT been on a visiting committee within the last two years. \nYou may register for this training by logging into the ACS WASC Member Portal. \nFor more information or assistance\, please contact the ACS WASC office at 650 696-1060 or training@acswasc.org.
URL:https://acswasc.org/event/2022-2023-acs-wasc-visiting-committee-member-training/
CATEGORIES:Training Calendar
END:VEVENT
END:VCALENDAR