BEGIN:VCALENDAR
VERSION:2.0
PRODID:-//Accrediting Commission for Schools - ECPv6.15.20//NONSGML v1.0//EN
CALSCALE:GREGORIAN
METHOD:PUBLISH
X-WR-CALNAME:Accrediting Commission for Schools
X-ORIGINAL-URL:https://acswasc.org
X-WR-CALDESC:Events for Accrediting Commission for Schools
REFRESH-INTERVAL;VALUE=DURATION:PT1H
X-Robots-Tag:noindex
X-PUBLISHED-TTL:PT1H
BEGIN:VTIMEZONE
TZID:UTC
BEGIN:STANDARD
TZOFFSETFROM:+0000
TZOFFSETTO:+0000
TZNAME:UTC
DTSTART:20200101T000000
END:STANDARD
END:VTIMEZONE
BEGIN:VEVENT
DTSTART;TZID=UTC:20211006T130000
DTEND;TZID=UTC:20211006T160000
DTSTAMP:20260420T133505
CREATED:20210917T193017Z
LAST-MODIFIED:20220302T114916Z
UID:66117-1633525200-1633536000@acswasc.org
SUMMARY:2021-2022 WASC New Visiting Committee Member Training
DESCRIPTION:Please contact Sylvia Taylor for additional information:  staylor@acswasc.org \n 
URL:https://acswasc.org/event/2021-2022-wasc-new-visiting-committee-member-training/
CATEGORIES:Training Calendar
END:VEVENT
END:VCALENDAR