BEGIN:VCALENDAR
VERSION:2.0
PRODID:-//Accrediting Commission for Schools - ECPv6.15.20//NONSGML v1.0//EN
CALSCALE:GREGORIAN
METHOD:PUBLISH
X-WR-CALNAME:Accrediting Commission for Schools
X-ORIGINAL-URL:https://acswasc.org
X-WR-CALDESC:Events for Accrediting Commission for Schools
REFRESH-INTERVAL;VALUE=DURATION:PT1H
X-Robots-Tag:noindex
X-PUBLISHED-TTL:PT1H
BEGIN:VTIMEZONE
TZID:UTC
BEGIN:STANDARD
TZOFFSETFROM:+0000
TZOFFSETTO:+0000
TZNAME:UTC
DTSTART:20210101T000000
END:STANDARD
END:VTIMEZONE
BEGIN:VEVENT
DTSTART;TZID=UTC:20220308T090000
DTEND;TZID=UTC:20220308T120000
DTSTAMP:20260420T043711
CREATED:20210824T180028Z
LAST-MODIFIED:20220302T115159Z
UID:66071-1646730000-1646740800@acswasc.org
SUMMARY:2021-2022 WASC/CDE New Visiting Committee Member Training - Virtual
DESCRIPTION:Please contact Sylvia Taylor for additional information: staylor@acswasc.org
URL:https://acswasc.org/event/2021-2022-wasc-cde-new-visiting-committee-member-training-virtual-3/
CATEGORIES:Training Calendar
END:VEVENT
END:VCALENDAR